Workbook

Sheet SIU
B1: =$AC$68 -> 1362.747 | C1: at grad | E1: =$AC$74 -> 4328.9941 | F1: at end of 5 yrs | H1: =N11 -> -1150 | I1: need at start | K1: =Income!N6 -> 1783.75 | L1: net monthly income
A2: Type | B2: annual | C2: monthly | E2: =SUM(C3:C50) -> 1357.5 | F2: per month expenses | K2: =-E2 -> -1357.5 | L2: net montly expenses
A3: rent | C3: 450 | E3: 20 | F3: Job #1 hrs | H3: Loan Rate
A4: utilities | C4: 0 | E4: 20 | F4: Job #2 hrs | H4: 0.08 | K4: =K1+K2 -> 426.25 | L4: left every month
A5: internet | C5: 0
A6: cell phone | C6: 20 | E6: Campus Edge apartments - $450/mo | M6: start | N6: =$C$3 -> 450 | O6: deposit
A7: renter's insurance | B7: 150 | C7: =B7/12 -> 12.5 | E7: all utilities included: water, electric, internet | N7: 200 | O7: air mattress, pillows, blankets - Amazon delivery
A8: car payment | B8: 0 | C8: =B8/12 -> 0 | E8: 91 apartments total | N8: 300 | O8: groceries
A9: auto insurance | B9: 0 | C9: =B9/12 -> 0 | E9: Campus Edge Apts | Apartments in Carbondale, IL | N9: 150 | O9: misc
A10: health insurance | C10: 75 | E10: (970) 536-5949 | G10: family, not students only | N10: 50 | O10: train ticket
A11: fuel /Bus | C11: 25 | N11: =-SUM(N5:N10) -> -1150 | O11: so before you start you'll need this much
A12: car repairs (oil) | B12: 0 | C12: =B12/12 -> 0
A13: groceries (food) | C13: 250 | J13: Year | K13: Month | L13: Total Months | M13: Balance | N13: income | O13: Bal + Income | Q13: Short amt | S13: Take from | T13: must borrow? | U13: OK to borrow? | V13: loan | W13: loan balance w/interest | X13: monthly | Y13: classes | Z13: apartment needs | AA13: assets | AB13: Loan bal | AC13: Left? | AW13: balance incl
A14: groceries (non-food) | C14: 50 | D14: Macomb Rentals - | P14: expenses | R14: Savings | S14: savings | V14: 0 | AW14: Savings | AX14: loan | AZ14: cash bal | BA14: loan bal
A15: fast food | C15: 50 | D15: 3 properties - Adams St, Wheeler St, Eggers Dr | J15: 1 | K15: 1 | L15: 1 | M15: 0 | N15: =Income!$N$6 -> 1783.75 | O15: =M15+N15 -> 1783.75 | P15: =SUM(X15:Z15) -> -1652.5 | Q15: =IF((O15+P15)<0,(O15+P15),0) -> 0 | R15: =$C$18 -> 100 | S15: =IF(Q15=0,0,IF(R15>-Q15,-Q15,R15)) -> 0 | T15: =IF(R15<-Q15,"y","") | U15: =IF(Y15=-4200,"y","") | V15: =IF(AND(T15="y",U15="y"),-Y15,0) -> 0 | W15: =V15 -> 0 | X15: =-$E$2 -> -1357.5 | Y15: -95 | Z15: -200 | AA15: =O15+R15 -> 1883.75 | AB15: =W15 -> 0 | AC15: =AA15-AB15 -> 1883.75 | AW15: =AB15+R15 -> 100 | AX15: =IF(AW15>0,0,-Y15) -> 0 | AZ15: =AW15+AX15 -> 100 | BA15: =AX15 -> 0
A16: dining out | C16: 30 | K16: =K15+1 -> 2 | L16: =L15+1 -> 2 | M16: =M15+N15+S15+V15+P15 -> 131.25 | N16: =Income!$N$6 -> 1783.75 | O16: =M16+N16 -> 1915 | P16: =SUM(X16:Z16) -> -1652.5 | Q16: =IF((O16+P16)<0,(O16+P16),0) -> 0 | R16: =R15+$C$18-S15 -> 200 | S16: =IF(Q16=0,0,IF(R16>-Q16,-Q16,R16)) -> 0 | T16: =IF(R16<-Q16,"y","") | U16: =IF(Y16=-4200,"y","") | V16: =IF(AND(T16="y",U16="y"),-Y16,0) -> 0 | W16: =(W15*(1+$H$4/12)+V16) -> 0 | X16: =-$E$2 -> -1357.5 | Y16: -95 | Z16: -200 | AA16: =O16+R16 -> 2115 | AB16: =W16 -> 0 | AC16: =AA16-AB16 -> 2115 | AW16: =AB16+R16 -> 200 | AX16: =IF(AW16>0,0,-Y16) -> 0 | AZ16: =AW16+AX16 -> 200 | BA16: =BA15+AX16 -> 0
A17: entertainment | C17: 50 | D17: Home - Macomb Rentals | K17: =K16+1 -> 3 | L17: =L16+1 -> 3 | M17: =M16+N16+S16+V16+P16 -> 262.5 | N17: =Income!$N$6 -> 1783.75 | O17: =M17+N17 -> 2046.25 | P17: =SUM(X17:Z17) -> -1652.5 | Q17: =IF((O17+P17)<0,(O17+P17),0) -> 0 | R17: =R16+$C$18-S16 -> 300 | S17: =IF(Q17=0,0,IF(R17>-Q17,-Q17,R17)) -> 0 | T17: =IF(R17<-Q17,"y","") | U17: =IF(Y17=-4200,"y","") | V17: =IF(AND(T17="y",U17="y"),-Y17,0) -> 0 | W17: =(W16*(1+$H$4/12)+V17) -> 0 | X17: =-$E$2 -> -1357.5 | Y17: -95 | Z17: -200 | AA17: =O17+R17 -> 2346.25 | AB17: =W17 -> 0 | AC17: =AA17-AB17 -> 2346.25 | AW17: =AB17+R17 -> 300 | AX17: =IF(AW17>0,0,-Y17) -> 0 | AZ17: =AW17+AX17 -> 300 | BA17: =BA16+AX17 -> 0
A18: savings | C18: 100 | D18: (309) 833-2320 | K18: =K17+1 -> 4 | L18: =L17+1 -> 4 | M18: =M17+N17+S17+V17+P17 -> 393.75 | N18: =Income!$N$6 -> 1783.75 | O18: =M18+N18 -> 2177.5 | P18: =SUM(X18:Z18) -> -1652.5 | Q18: =IF((O18+P18)<0,(O18+P18),0) -> 0 | R18: =R17+$C$18-S17 -> 400 | S18: =IF(Q18=0,0,IF(R18>-Q18,-Q18,R18)) -> 0 | T18: =IF(R18<-Q18,"y","") | U18: =IF(Y18=-4200,"y","") | V18: =IF(AND(T18="y",U18="y"),-Y18,0) -> 0 | W18: =(W17*(1+$H$4/12)+V18) -> 0 | X18: =-$E$2 -> -1357.5 | Y18: -95 | Z18: -200 | AA18: =O18+R18 -> 2577.5 | AB18: =W18 -> 0 | AC18: =AA18-AB18 -> 2577.5 | AW18: =AB18+R18 -> 400 | AX18: =IF(AW18>0,0,-Y18) -> 0 | AZ18: =AW18+AX18 -> 400 | BA18: =BA17+AX18 -> 0
A19: vacation | B19: 1000 | C19: =B19/12 -> 83.333333 | K19: =K18+1 -> 5 | L19: =L18+1 -> 5 | M19: =M18+N18+S18+V18+P18 -> 525 | N19: =Income!$N$6 -> 1783.75 | O19: =M19+N19 -> 2308.75 | P19: =SUM(X19:Z19) -> -1652.5 | Q19: =IF((O19+P19)<0,(O19+P19),0) -> 0 | R19: =R18+$C$18-S18 -> 500 | S19: =IF(Q19=0,0,IF(R19>-Q19,-Q19,R19)) -> 0 | T19: =IF(R19<-Q19,"y","") | U19: =IF(Y19=-4200,"y","") | V19: =IF(AND(T19="y",U19="y"),-Y19,0) -> 0 | W19: =(W18*(1+$H$4/12)+V19) -> 0 | X19: =-$E$2 -> -1357.5 | Y19: -95 | Z19: -200 | AA19: =O19+R19 -> 2808.75 | AB19: =W19 -> 0 | AC19: =AA19-AB19 -> 2808.75 | AW19: =AB19+R19 -> 500 | AX19: =IF(AW19>0,0,-Y19) -> 0 | AZ19: =AW19+AX19 -> 500 | BA19: =BA18+AX19 -> 0
A20: misc household | C20: 50 | K20: =K19+1 -> 6 | L20: =L19+1 -> 6 | M20: =M19+N19+S19+V19+P19 -> 656.25 | N20: =Income!$N$6 -> 1783.75 | O20: =M20+N20 -> 2440 | P20: =SUM(X20:Z20) -> -1452.5 | Q20: =IF((O20+P20)<0,(O20+P20),0) -> 0 | R20: =R19+$C$18-S19 -> 600 | S20: =IF(Q20=0,0,IF(R20>-Q20,-Q20,R20)) -> 0 | T20: =IF(R20<-Q20,"y","") | U20: =IF(Y20=-4200,"y","") | V20: =IF(AND(T20="y",U20="y"),-Y20,0) -> 0 | W20: =(W19*(1+$H$4/12)+V20) -> 0 | X20: =-$E$2 -> -1357.5 | Y20: -95 | AA20: =O20+R20 -> 3040 | AB20: =W20 -> 0 | AC20: =AA20-AB20 -> 3040 | AW20: =AB20+R20 -> 600 | AX20: =IF(AW20>0,0,-Y20) -> 0 | AZ20: =AW20+AX20 -> 600 | BA20: =BA19+AX20 -> 0
A21: streaming | C21: 20 | K21: =K20+1 -> 7 | L21: =L20+1 -> 7 | M21: =M20+N20+S20+V20+P20 -> 987.5 | N21: =Income!$N$6 -> 1783.75 | O21: =M21+N21 -> 2771.25 | P21: =SUM(X21:Z21) -> -1452.5 | Q21: =IF((O21+P21)<0,(O21+P21),0) -> 0 | R21: =R20+$C$18-S20 -> 700 | S21: =IF(Q21=0,0,IF(R21>-Q21,-Q21,R21)) -> 0 | T21: =IF(R21<-Q21,"y","") | U21: =IF(Y21=-4200,"y","") | V21: =IF(AND(T21="y",U21="y"),-Y21,0) -> 0 | W21: =(W20*(1+$H$4/12)+V21) -> 0 | X21: =-$E$2 -> -1357.5 | Y21: -95 | AA21: =O21+R21 -> 3471.25 | AB21: =W21 -> 0 | AC21: =AA21-AB21 -> 3471.25 | AW21: =AB21+R21 -> 700 | AX21: =IF(AW21>0,0,-Y21) -> 0 | AZ21: =AW21+AX21 -> 700 | BA21: =BA20+AX21 -> 0
A22: health club | C22: 0 | E22: at apartment | K22: =K21+1 -> 8 | L22: =L21+1 -> 8 | M22: =M21+N21+S21+V21+P21 -> 1318.75 | N22: =Income!$N$6 -> 1783.75 | O22: =M22+N22 -> 3102.5 | P22: =SUM(X22:Z22) -> -1452.5 | Q22: =IF((O22+P22)<0,(O22+P22),0) -> 0 | R22: =R21+$C$18-S21 -> 800 | S22: =IF(Q22=0,0,IF(R22>-Q22,-Q22,R22)) -> 0 | T22: =IF(R22<-Q22,"y","") | U22: =IF(Y22=-4200,"y","") | V22: =IF(AND(T22="y",U22="y"),-Y22,0) -> 0 | W22: =(W21*(1+$H$4/12)+V22) -> 0 | X22: =-$E$2 -> -1357.5 | Y22: -95 | AA22: =O22+R22 -> 3902.5 | AB22: =W22 -> 0 | AC22: =AA22-AB22 -> 3902.5 | AW22: =AB22+R22 -> 800 | AX22: =IF(AW22>0,0,-Y22) -> 0 | AZ22: =AW22+AX22 -> 800 | BA22: =BA21+AX22 -> 0
A23: hair cut | C23: 25 | K23: =K22+1 -> 9 | L23: =L22+1 -> 9 | M23: =M22+N22+S22+V22+P22 -> 1650 | N23: =Income!$N$6 -> 1783.75 | O23: =M23+N23 -> 3433.75 | P23: =SUM(X23:Z23) -> -1452.5 | Q23: =IF((O23+P23)<0,(O23+P23),0) -> 0 | R23: =R22+$C$18-S22 -> 900 | S23: =IF(Q23=0,0,IF(R23>-Q23,-Q23,R23)) -> 0 | T23: =IF(R23<-Q23,"y","") | U23: =IF(Y23=-4200,"y","") | V23: =IF(AND(T23="y",U23="y"),-Y23,0) -> 0 | W23: =(W22*(1+$H$4/12)+V23) -> 0 | X23: =-$E$2 -> -1357.5 | Y23: -95 | AA23: =O23+R23 -> 4333.75 | AB23: =W23 -> 0 | AC23: =AA23-AB23 -> 4333.75 | AW23: =AB23+R23 -> 900 | AX23: =IF(AW23>0,0,-Y23) -> 0 | AZ23: =AW23+AX23 -> 900 | BA23: =BA22+AX23 -> 0
A24: presents | B24: 400 | C24: =B24/12 -> 33.333333 | K24: =K23+1 -> 10 | L24: =L23+1 -> 10 | M24: =M23+N23+S23+V23+P23 -> 1981.25 | N24: =Income!$N$6 -> 1783.75 | O24: =M24+N24 -> 3765 | P24: =SUM(X24:Z24) -> -1452.5 | Q24: =IF((O24+P24)<0,(O24+P24),0) -> 0 | R24: =R23+$C$18-S23 -> 1000 | S24: =IF(Q24=0,0,IF(R24>-Q24,-Q24,R24)) -> 0 | T24: =IF(R24<-Q24,"y","") | U24: =IF(Y24=-4200,"y","") | V24: =IF(AND(T24="y",U24="y"),-Y24,0) -> 0 | W24: =(W23*(1+$H$4/12)+V24) -> 0 | X24: =-$E$2 -> -1357.5 | Y24: -95 | AA24: =O24+R24 -> 4765 | AB24: =W24 -> 0 | AC24: =AA24-AB24 -> 4765 | AW24: =AB24+R24 -> 1000 | AX24: =IF(AW24>0,0,-Y24) -> 0 | AZ24: =AW24+AX24 -> 1000 | BA24: =BA23+AX24 -> 0
A25: clothes | B25: 400 | C25: =B25/12 -> 33.333333 | K25: =K24+1 -> 11 | L25: =L24+1 -> 11 | M25: =M24+N24+S24+V24+P24 -> 2312.5 | N25: =Income!$N$6 -> 1783.75 | O25: =M25+N25 -> 4096.25 | P25: =SUM(X25:Z25) -> -1452.5 | Q25: =IF((O25+P25)<0,(O25+P25),0) -> 0 | R25: =R24+$C$18-S24 -> 1100 | S25: =IF(Q25=0,0,IF(R25>-Q25,-Q25,R25)) -> 0 | T25: =IF(R25<-Q25,"y","") | U25: =IF(Y25=-4200,"y","") | V25: =IF(AND(T25="y",U25="y"),-Y25,0) -> 0 | W25: =(W24*(1+$H$4/12)+V25) -> 0 | X25: =-$E$2 -> -1357.5 | Y25: -95 | AA25: =O25+R25 -> 5196.25 | AB25: =W25 -> 0 | AC25: =AA25-AB25 -> 5196.25 | AW25: =AB25+R25 -> 1100 | AX25: =IF(AW25>0,0,-Y25) -> 0 | AZ25: =AW25+AX25 -> 1100 | BA25: =BA24+AX25 -> 0
K26: =K25+1 -> 12 | L26: =L25+1 -> 12 | M26: =M25+N25+S25+V25+P25 -> 2643.75 | N26: =Income!$N$6 -> 1783.75 | O26: =M26+N26 -> 4427.5 | P26: =SUM(X26:Z26) -> -1452.5 | Q26: =IF((O26+P26)<0,(O26+P26),0) -> 0 | R26: =R25+$C$18-S25 -> 1200 | S26: =IF(Q26=0,0,IF(R26>-Q26,-Q26,R26)) -> 0 | T26: =IF(R26<-Q26,"y","") | U26: =IF(Y26=-4200,"y","") | V26: =IF(AND(T26="y",U26="y"),-Y26,0) -> 0 | W26: =(W25*(1+$H$4/12)+V26) -> 0 | X26: =-$E$2 -> -1357.5 | Y26: -95 | AA26: =O26+R26 -> 5627.5 | AB26: =W26 -> 0 | AC26: =AA26-AB26 -> 5627.5 | AW26: =AB26+R26 -> 1200 | AX26: =IF(AW26>0,0,-Y26) -> 0 | AZ26: =AW26+AX26 -> 1200 | BA26: =BA25+AX26 -> 0
J27: 2 | K27: 1 | L27: =L26+1 -> 13 | M27: =M26+N26+S26+V26+P26 -> 2975 | N27: =Income!$N$6 -> 1783.75 | O27: =M27+N27 -> 4758.75 | P27: =SUM(X27:Z27) -> -1452.5 | Q27: =IF((O27+P27)<0,(O27+P27),0) -> 0 | R27: =R26+$C$18-S26 -> 1300 | S27: =IF(Q27=0,0,IF(R27>-Q27,-Q27,R27)) -> 0 | T27: =IF(R27<-Q27,"y","") | U27: =IF(Y27=-4200,"y","") | V27: =IF(AND(T27="y",U27="y"),-Y27,0) -> 0 | W27: =(W26*(1+$H$4/12)+V27) -> 0 | X27: =-$E$2 -> -1357.5 | Y27: -95 | AA27: =O27+R27 -> 6058.75 | AB27: =W27 -> 0 | AC27: =AA27-AB27 -> 6058.75 | AW27: =AB27+R27 -> 1300 | AX27: =IF(AW27>0,0,-Y27) -> 0 | AZ27: =AW27+AX27 -> 1300 | BA27: =BA26+AX27 -> 0
K28: =K27+1 -> 2 | L28: =L27+1 -> 14 | M28: =M27+N27+S27+V27+P27 -> 3306.25 | N28: =Income!$N$6 -> 1783.75 | O28: =M28+N28 -> 5090 | P28: =SUM(X28:Z28) -> -1452.5 | Q28: =IF((O28+P28)<0,(O28+P28),0) -> 0 | R28: =R27+$C$18-S27 -> 1400 | S28: =IF(Q28=0,0,IF(R28>-Q28,-Q28,R28)) -> 0 | T28: =IF(R28<-Q28,"y","") | U28: =IF(Y28=-4200,"y","") | V28: =IF(AND(T28="y",U28="y"),-Y28,0) -> 0 | W28: =(W27*(1+$H$4/12)+V28) -> 0 | X28: =-$E$2 -> -1357.5 | Y28: -95 | AA28: =O28+R28 -> 6490 | AB28: =W28 -> 0 | AC28: =AA28-AB28 -> 6490 | AW28: =AB28+R28 -> 1400 | AX28: =IF(AW28>0,0,-Y28) -> 0 | AZ28: =AW28+AX28 -> 1400 | BA28: =BA27+AX28 -> 0
K29: =K28+1 -> 3 | L29: =L28+1 -> 15 | M29: =M28+N28+S28+V28+P28 -> 3637.5 | N29: =Income!$N$6 -> 1783.75 | O29: =M29+N29 -> 5421.25 | P29: =SUM(X29:Z29) -> -1452.5 | Q29: =IF((O29+P29)<0,(O29+P29),0) -> 0 | R29: =R28+$C$18-S28 -> 1500 | S29: =IF(Q29=0,0,IF(R29>-Q29,-Q29,R29)) -> 0 | T29: =IF(R29<-Q29,"y","") | U29: =IF(Y29=-4200,"y","") | V29: =IF(AND(T29="y",U29="y"),-Y29,0) -> 0 | W29: =(W28*(1+$H$4/12)+V29) -> 0 | X29: =-$E$2 -> -1357.5 | Y29: -95 | AA29: =O29+R29 -> 6921.25 | AB29: =W29 -> 0 | AC29: =AA29-AB29 -> 6921.25 | AW29: =AB29+R29 -> 1500 | AX29: =IF(AW29>0,0,-Y29) -> 0 | AZ29: =AW29+AX29 -> 1500 | BA29: =BA28+AX29 -> 0
K30: =K29+1 -> 4 | L30: =L29+1 -> 16 | M30: =M29+N29+S29+V29+P29 -> 3968.75 | N30: =Income!$N$6 -> 1783.75 | O30: =M30+N30 -> 5752.5 | P30: =SUM(X30:Z30) -> -1452.5 | Q30: =IF((O30+P30)<0,(O30+P30),0) -> 0 | R30: =R29+$C$18-S29 -> 1600 | S30: =IF(Q30=0,0,IF(R30>-Q30,-Q30,R30)) -> 0 | T30: =IF(R30<-Q30,"y","") | U30: =IF(Y30=-4200,"y","") | V30: =IF(AND(T30="y",U30="y"),-Y30,0) -> 0 | W30: =(W29*(1+$H$4/12)+V30) -> 0 | X30: =-$E$2 -> -1357.5 | Y30: -95 | AA30: =O30+R30 -> 7352.5 | AB30: =W30 -> 0 | AC30: =AA30-AB30 -> 7352.5 | AW30: =AB30+R30 -> 1600 | AX30: =IF(AW30>0,0,-Y30) -> 0 | AZ30: =AW30+AX30 -> 1600 | BA30: =BA29+AX30 -> 0
K31: =K30+1 -> 5 | L31: =L30+1 -> 17 | M31: =M30+N30+S30+V30+P30 -> 4300 | N31: =Income!$N$6 -> 1783.75 | O31: =M31+N31 -> 6083.75 | P31: =SUM(X31:Z31) -> -1452.5 | Q31: =IF((O31+P31)<0,(O31+P31),0) -> 0 | R31: =R30+$C$18-S30 -> 1700 | S31: =IF(Q31=0,0,IF(R31>-Q31,-Q31,R31)) -> 0 | T31: =IF(R31<-Q31,"y","") | U31: =IF(Y31=-4200,"y","") | V31: =IF(AND(T31="y",U31="y"),-Y31,0) -> 0 | W31: =(W30*(1+$H$4/12)+V31) -> 0 | X31: =-$E$2 -> -1357.5 | Y31: -95 | AA31: =O31+R31 -> 7783.75 | AB31: =W31 -> 0 | AC31: =AA31-AB31 -> 7783.75 | AW31: =AB31+R31 -> 1700 | AX31: =IF(AW31>0,0,-Y31) -> 0 | AZ31: =AW31+AX31 -> 1700 | BA31: =BA30+AX31 -> 0
K32: =K31+1 -> 6 | L32: =L31+1 -> 18 | M32: =M31+N31+S31+V31+P31 -> 4631.25 | N32: =Income!$N$6 -> 1783.75 | O32: =M32+N32 -> 6415 | P32: =SUM(X32:Z32) -> -1452.5 | Q32: =IF((O32+P32)<0,(O32+P32),0) -> 0 | R32: =R31+$C$18-S31 -> 1800 | S32: =IF(Q32=0,0,IF(R32>-Q32,-Q32,R32)) -> 0 | T32: =IF(R32<-Q32,"y","") | U32: =IF(Y32=-4200,"y","") | V32: =IF(AND(T32="y",U32="y"),-Y32,0) -> 0 | W32: =(W31*(1+$H$4/12)+V32) -> 0 | X32: =-$E$2 -> -1357.5 | Y32: -95 | AA32: =O32+R32 -> 8215 | AB32: =W32 -> 0 | AC32: =AA32-AB32 -> 8215 | AW32: =AB32+R32 -> 1800 | AX32: =IF(AW32>0,0,-Y32) -> 0 | AZ32: =AW32+AX32 -> 1800 | BA32: =BA31+AX32 -> 0
K33: =K32+1 -> 7 | L33: =L32+1 -> 19 | M33: =M32+N32+S32+V32+P32 -> 4962.5 | N33: =Income!$N$6 -> 1783.75 | O33: =M33+N33 -> 6746.25 | P33: =SUM(X33:Z33) -> -5557.5 | Q33: =IF((O33+P33)<0,(O33+P33),0) -> 0 | R33: =R32+$C$18-S32 -> 1900 | S33: =IF(Q33=0,0,IF(R33>-Q33,-Q33,R33)) -> 0 | T33: =IF(R33<-Q33,"y","") | U33: =IF(Y33=-4200,"y","") -> y | V33: =IF(AND(T33="y",U33="y"),-Y33,0) -> 0 | W33: =(W32*(1+$H$4/12)+V33) -> 0 | X33: =-$E$2 -> -1357.5 | Y33: -4200 | AA33: =O33+R33 -> 8646.25 | AB33: =W33 -> 0 | AC33: =AA33-AB33 -> 8646.25 | AW33: =AB33+R33 -> 1900 | AX33: =IF(AW33>0,0,-Y33) -> 0 | AZ33: =AW33+AX33 -> 1900 | BA33: =BA32+AX33 -> 0
K34: =K33+1 -> 8 | L34: =L33+1 -> 20 | M34: =M33+N33+S33+V33+P33 -> 1188.75 | N34: =Income!$N$6 -> 1783.75 | O34: =M34+N34 -> 2972.5 | P34: =SUM(X34:Z34) -> -1357.5 | Q34: =IF((O34+P34)<0,(O34+P34),0) -> 0 | R34: =R33+$C$18-S33 -> 2000 | S34: =IF(Q34=0,0,IF(R34>-Q34,-Q34,R34)) -> 0 | T34: =IF(R34<-Q34,"y","") | U34: =IF(Y34=-4200,"y","") | V34: =IF(AND(T34="y",U34="y"),-Y34,0) -> 0 | W34: =(W33*(1+$H$4/12)+V34) -> 0 | X34: =-$E$2 -> -1357.5 | AA34: =O34+R34 -> 4972.5 | AB34: =W34 -> 0 | AC34: =AA34-AB34 -> 4972.5 | AW34: =AB34+R34 -> 2000 | AX34: =IF(AW34>0,0,-Y34) -> 0 | AZ34: =AW34+AX34 -> 2000 | BA34: =BA33+AX34 -> 0
K35: =K34+1 -> 9 | L35: =L34+1 -> 21 | M35: =M34+N34+S34+V34+P34 -> 1615 | N35: =Income!$N$6 -> 1783.75 | O35: =M35+N35 -> 3398.75 | P35: =SUM(X35:Z35) -> -1357.5 | Q35: =IF((O35+P35)<0,(O35+P35),0) -> 0 | R35: =R34+$C$18-S34 -> 2100 | S35: =IF(Q35=0,0,IF(R35>-Q35,-Q35,R35)) -> 0 | T35: =IF(R35<-Q35,"y","") | U35: =IF(Y35=-4200,"y","") | V35: =IF(AND(T35="y",U35="y"),-Y35,0) -> 0 | W35: =(W34*(1+$H$4/12)+V35) -> 0 | X35: =-$E$2 -> -1357.5 | AA35: =O35+R35 -> 5498.75 | AB35: =W35 -> 0 | AC35: =AA35-AB35 -> 5498.75 | AW35: =AB35+R35 -> 2100 | AX35: =IF(AW35>0,0,-Y35) -> 0 | AZ35: =AW35+AX35 -> 2100 | BA35: =BA34+AX35 -> 0
K36: =K35+1 -> 10 | L36: =L35+1 -> 22 | M36: =M35+N35+S35+V35+P35 -> 2041.25 | N36: =Income!$N$6 -> 1783.75 | O36: =M36+N36 -> 3825 | P36: =SUM(X36:Z36) -> -1357.5 | Q36: =IF((O36+P36)<0,(O36+P36),0) -> 0 | R36: =R35+$C$18-S35 -> 2200 | S36: =IF(Q36=0,0,IF(R36>-Q36,-Q36,R36)) -> 0 | T36: =IF(R36<-Q36,"y","") | U36: =IF(Y36=-4200,"y","") | V36: =IF(AND(T36="y",U36="y"),-Y36,0) -> 0 | W36: =(W35*(1+$H$4/12)+V36) -> 0 | X36: =-$E$2 -> -1357.5 | AA36: =O36+R36 -> 6025 | AB36: =W36 -> 0 | AC36: =AA36-AB36 -> 6025 | AW36: =AB36+R36 -> 2200 | AX36: =IF(AW36>0,0,-Y36) -> 0 | AZ36: =AW36+AX36 -> 2200 | BA36: =BA35+AX36 -> 0
K37: =K36+1 -> 11 | L37: =L36+1 -> 23 | M37: =M36+N36+S36+V36+P36 -> 2467.5 | N37: =Income!$N$6 -> 1783.75 | O37: =M37+N37 -> 4251.25 | P37: =SUM(X37:Z37) -> -1357.5 | Q37: =IF((O37+P37)<0,(O37+P37),0) -> 0 | R37: =R36+$C$18-S36 -> 2300 | S37: =IF(Q37=0,0,IF(R37>-Q37,-Q37,R37)) -> 0 | T37: =IF(R37<-Q37,"y","") | U37: =IF(Y37=-4200,"y","") | V37: =IF(AND(T37="y",U37="y"),-Y37,0) -> 0 | W37: =(W36*(1+$H$4/12)+V37) -> 0 | X37: =-$E$2 -> -1357.5 | AA37: =O37+R37 -> 6551.25 | AB37: =W37 -> 0 | AC37: =AA37-AB37 -> 6551.25 | AW37: =AB37+R37 -> 2300 | AX37: =IF(AW37>0,0,-Y37) -> 0 | AZ37: =AW37+AX37 -> 2300 | BA37: =BA36+AX37 -> 0
K38: =K37+1 -> 12 | L38: =L37+1 -> 24 | M38: =M37+N37+S37+V37+P37 -> 2893.75 | N38: =Income!$N$6 -> 1783.75 | O38: =M38+N38 -> 4677.5 | P38: =SUM(X38:Z38) -> -1357.5 | Q38: =IF((O38+P38)<0,(O38+P38),0) -> 0 | R38: =R37+$C$18-S37 -> 2400 | S38: =IF(Q38=0,0,IF(R38>-Q38,-Q38,R38)) -> 0 | T38: =IF(R38<-Q38,"y","") | U38: =IF(Y38=-4200,"y","") | V38: =IF(AND(T38="y",U38="y"),-Y38,0) -> 0 | W38: =(W37*(1+$H$4/12)+V38) -> 0 | X38: =-$E$2 -> -1357.5 | AA38: =O38+R38 -> 7077.5 | AB38: =W38 -> 0 | AC38: =AA38-AB38 -> 7077.5 | AW38: =AB38+R38 -> 2400 | AX38: =IF(AW38>0,0,-Y38) -> 0 | AZ38: =AW38+AX38 -> 2400 | BA38: =BA37+AX38 -> 0
J39: 3 | K39: 1 | L39: =L38+1 -> 25 | M39: =M38+N38+S38+V38+P38 -> 3320 | N39: =Income!$N$6 -> 1783.75 | O39: =M39+N39 -> 5103.75 | P39: =SUM(X39:Z39) -> -5557.5 | Q39: =IF((O39+P39)<0,(O39+P39),0) -> -453.75 | R39: =R38+$C$18-S38 -> 2500 | S39: =IF(Q39=0,0,IF(R39>-Q39,-Q39,R39)) -> 453.75 | T39: =IF(R39<-Q39,"y","") | U39: =IF(Y39=-4200,"y","") -> y | V39: =IF(AND(T39="y",U39="y"),-Y39,0) -> 0 | W39: =(W38*(1+$H$4/12)+V39) -> 0 | X39: =-$E$2 -> -1357.5 | Y39: -4200 | AA39: =O39+R39 -> 7603.75 | AB39: =W39 -> 0 | AC39: =AA39-AB39 -> 7603.75 | AW39: =AB39+R39 -> 2500 | AX39: =IF(AW39>0,0,-Y39) -> 0 | AZ39: =AW39+AX39 -> 2500 | BA39: =BA38+AX39 -> 0
K40: =K39+1 -> 2 | L40: =L39+1 -> 26 | M40: =M39+N39+S39+V39+P39 -> 0 | N40: =Income!$N$6 -> 1783.75 | O40: =M40+N40 -> 1783.75 | P40: =SUM(X40:Z40) -> -1357.5 | Q40: =IF((O40+P40)<0,(O40+P40),0) -> 0 | R40: =R39+$C$18-S39 -> 2146.25 | S40: =IF(Q40=0,0,IF(R40>-Q40,-Q40,R40)) -> 0 | T40: =IF(R40<-Q40,"y","") | U40: =IF(Y40=-4200,"y","") | V40: =IF(AND(T40="y",U40="y"),-Y40,0) -> 0 | W40: =(W39*(1+$H$4/12)+V40) -> 0 | X40: =-$E$2 -> -1357.5 | AA40: =O40+R40 -> 3930 | AB40: =W40 -> 0 | AC40: =AA40-AB40 -> 3930 | AW40: =AB40+R40 -> 2146.25 | AX40: =IF(AW40>0,0,-Y40) -> 0 | AZ40: =AW40+AX40 -> 2146.25 | BA40: =BA39+AX40 -> 0
...

Sheet Income
B1: hrs/wk | C1: wages/hr | D1: gross | E1: FICA | F1: State | G1: Fed | H1: Tithe | J1: net | K1: # wks | L1: net annual | N1: net - monthly
E2: 0.0765 | F2: 0.05 | G2: =$F$15 -> 0.06 | H2: 0.1
A3: Job 1 | B3: =SIU!E3 -> 20 | C3: 15 | D3: =B3*C3 -> 300 | E3: =-$D3*E$2 -> -22.95 | F3: =-$D3*F$2 -> -15 | G3: =-$D3*G$2 -> -18 | H3: =-$D3*H$2 -> -30 | J3: =SUM(D3:H3) -> 214.05 | K3: 50 | L3: =J3*K3 -> 10702.5 | N3: =L3/12 -> 891.875
A4: Job 2 | B4: =SIU!E4 -> 20 | C4: 15 | D4: =B4*C4 -> 300 | E4: =-$D4*E$2 -> -22.95 | F4: =-$D4*F$2 -> -15 | G4: =-$D4*G$2 -> -18 | H4: =-$D4*H$2 -> -30 | J4: =SUM(D4:H4) -> 214.05 | K4: 50 | L4: =J4*K4 -> 10702.5 | N4: =L4/12 -> 891.875
D6: =K6*(D3+D4) -> 30000 | E6: gross annual | J6: =J3+J4 -> 428.1 | K6: 50 | L6: =J6*K6 -> 21405 | N6: =L6/12 -> 1783.75
A7: Example Assumption:
B8: This budget assumes the student is claimed as a dependent, works part-time, and has no federal income tax withheld or owed.
B9: Actual paychecks and tax returns vary based on individual circumstances.
C11: Standard deduction is about $16,000 for single
C13: So | D13: $17,000 AGI | F13: 1800 | G13: Fed Taxes owed
C15: not eligible for EIC | F15: =F13/D6 -> 0.06 | G15: effective rate

Sheet campus
B1: =$AC$68 -> -29751.5 | C1: at grad | E1: =$AC$74 -> -21149 | F1: at end of 5 yrs | H1: =N11 -> -700 | I1: need at start | K1: =Income!N6 -> 1783.75 | L1: net monthly income
A2: Type | B2: annual | C2: monthly | E2: =SUM(C3:C50) -> 450 | F2: per month expenses | K2: =-E2 -> -450 | L2: net montly expenses
A3: rent | E3: 20 | F3: Job #1 hrs | H3: Loan Rate
A4: utilities | C4: 0 | E4: 20 | F4: Job #2 hrs | H4: 0.08 | K4: =K1+K2 -> 1333.75 | L4: left every month
A5: internet | C5: 0
A6: cell phone | C6: 20 | E6: Campus Edge apartments - $450/mo | M6: start | N6: =$C$3 -> 0 | O6: deposit
A7: renter's insurance | C7: =B7/12 -> 0 | E7: all utilities included: water, electric, internet | N7: 200 | O7: air mattress, pillows, blankets - Amazon delivery
A8: car payment | B8: 0 | C8: =B8/12 -> 0 | E8: 91 apartments total | N8: 300 | O8: groceries
A9: auto insurance | B9: 0 | C9: =B9/12 -> 0 | E9: Campus Edge Apts | Apartments in Carbondale, IL | N9: 150 | O9: misc
A10: health insurance | E10: (970) 536-5949 | G10: family, not students only | N10: 50 | O10: train ticket
A11: fuel /Bus | C11: 25 | N11: =-SUM(N5:N10) -> -700 | O11: so before you start you'll need this much
A12: car repairs (oil) | B12: 0 | C12: =B12/12 -> 0
A13: groceries (food) | J13: Year | K13: Month | L13: Total Months | M13: Balance | N13: income | O13: Bal + Income | Q13: Short amt | S13: Take from | T13: must borrow? | U13: OK to borrow? | V13: loan | W13: loan balance w/interest | X13: monthly | Y13: classes | Z13: apartment needs | AA13: assets | AB13: Loan bal | AC13: Left? | AW13: balance incl
A14: groceries (non-food) | D14: Macomb Rentals - | P14: expenses | R14: Savings | S14: savings | V14: 0 | AW14: Savings | AX14: loan | AZ14: cash bal | BA14: loan bal
A15: fast food | C15: 50 | D15: 3 properties - Adams St, Wheeler St, Eggers Dr | J15: 1 | K15: 1 | L15: 1 | M15: 0 | N15: =Income!$N$6 -> 1783.75 | O15: =M15+N15 -> 1783.75 | P15: =SUM(X15:Z15) -> -13903 | Q15: =IF((O15+P15)<0,(O15+P15),0) -> -12119.25 | R15: =$C$18 -> 100 | S15: =IF(Q15=0,0,IF(R15>-Q15,-Q15,R15)) -> 100 | T15: =IF(R15<-Q15,"y","") -> y | U15: =IF(Y15=-4200,"y","") | V15: =IF(AND(T15="y",U15="y"),-Y15,0) -> 0 | W15: =V15 -> 0 | X15: =-$E$2 -> -450 | Y15: -13453 | AA15: =O15+R15 -> 1883.75 | AB15: =W15 -> 0 | AC15: =AA15-AB15 -> 1883.75 | AW15: =AB15+R15 -> 100 | AX15: =IF(AW15>0,0,-Y15) -> 0 | AZ15: =AW15+AX15 -> 100 | BA15: =AX15 -> 0
A16: dining out | C16: 30 | K16: =K15+1 -> 2 | L16: =L15+1 -> 2 | M16: =M15+N15+S15+V15+P15 -> -12019.25 | N16: =Income!$N$6 -> 1783.75 | O16: =M16+N16 -> -10235.5 | P16: =SUM(X16:Z16) -> -450 | Q16: =IF((O16+P16)<0,(O16+P16),0) -> -10685.5 | R16: =R15+$C$18-S15 -> 100 | S16: =IF(Q16=0,0,IF(R16>-Q16,-Q16,R16)) -> 100 | T16: =IF(R16<-Q16,"y","") -> y | U16: =IF(Y16=-4200,"y","") | V16: =IF(AND(T16="y",U16="y"),-Y16,0) -> 0 | W16: =(W15*(1+$H$4/12)+V16) -> 0 | X16: =-$E$2 -> -450 | AA16: =O16+R16 -> -10135.5 | AB16: =W16 -> 0 | AC16: =AA16-AB16 -> -10135.5 | AW16: =AB16+R16 -> 100 | AX16: =IF(AW16>0,0,-Y16) -> 0 | AZ16: =AW16+AX16 -> 100 | BA16: =BA15+AX16 -> 0
A17: entertainment | C17: 50 | D17: Home - Macomb Rentals | K17: =K16+1 -> 3 | L17: =L16+1 -> 3 | M17: =M16+N16+S16+V16+P16 -> -10585.5 | N17: =Income!$N$6 -> 1783.75 | O17: =M17+N17 -> -8801.75 | P17: =SUM(X17:Z17) -> -450 | Q17: =IF((O17+P17)<0,(O17+P17),0) -> -9251.75 | R17: =R16+$C$18-S16 -> 100 | S17: =IF(Q17=0,0,IF(R17>-Q17,-Q17,R17)) -> 100 | T17: =IF(R17<-Q17,"y","") -> y | U17: =IF(Y17=-4200,"y","") | V17: =IF(AND(T17="y",U17="y"),-Y17,0) -> 0 | W17: =(W16*(1+$H$4/12)+V17) -> 0 | X17: =-$E$2 -> -450 | AA17: =O17+R17 -> -8701.75 | AB17: =W17 -> 0 | AC17: =AA17-AB17 -> -8701.75 | AW17: =AB17+R17 -> 100 | AX17: =IF(AW17>0,0,-Y17) -> 0 | AZ17: =AW17+AX17 -> 100 | BA17: =BA16+AX17 -> 0
A18: savings | C18: 100 | D18: (309) 833-2320 | K18: =K17+1 -> 4 | L18: =L17+1 -> 4 | M18: =M17+N17+S17+V17+P17 -> -9151.75 | N18: =Income!$N$6 -> 1783.75 | O18: =M18+N18 -> -7368 | P18: =SUM(X18:Z18) -> -450 | Q18: =IF((O18+P18)<0,(O18+P18),0) -> -7818 | R18: =R17+$C$18-S17 -> 100 | S18: =IF(Q18=0,0,IF(R18>-Q18,-Q18,R18)) -> 100 | T18: =IF(R18<-Q18,"y","") -> y | U18: =IF(Y18=-4200,"y","") | V18: =IF(AND(T18="y",U18="y"),-Y18,0) -> 0 | W18: =(W17*(1+$H$4/12)+V18) -> 0 | X18: =-$E$2 -> -450 | AA18: =O18+R18 -> -7268 | AB18: =W18 -> 0 | AC18: =AA18-AB18 -> -7268 | AW18: =AB18+R18 -> 100 | AX18: =IF(AW18>0,0,-Y18) -> 0 | AZ18: =AW18+AX18 -> 100 | BA18: =BA17+AX18 -> 0
A19: vacation | B19: 1000 | C19: =B19/12 -> 83.333333 | K19: =K18+1 -> 5 | L19: =L18+1 -> 5 | M19: =M18+N18+S18+V18+P18 -> -7718 | N19: =Income!$N$6 -> 1783.75 | O19: =M19+N19 -> -5934.25 | P19: =SUM(X19:Z19) -> -450 | Q19: =IF((O19+P19)<0,(O19+P19),0) -> -6384.25 | R19: =R18+$C$18-S18 -> 100 | S19: =IF(Q19=0,0,IF(R19>-Q19,-Q19,R19)) -> 100 | T19: =IF(R19<-Q19,"y","") -> y | U19: =IF(Y19=-4200,"y","") | V19: =IF(AND(T19="y",U19="y"),-Y19,0) -> 0 | W19: =(W18*(1+$H$4/12)+V19) -> 0 | X19: =-$E$2 -> -450 | AA19: =O19+R19 -> -5834.25 | AB19: =W19 -> 0 | AC19: =AA19-AB19 -> -5834.25 | AW19: =AB19+R19 -> 100 | AX19: =IF(AW19>0,0,-Y19) -> 0 | AZ19: =AW19+AX19 -> 100 | BA19: =BA18+AX19 -> 0
A20: misc household | K20: =K19+1 -> 6 | L20: =L19+1 -> 6 | M20: =M19+N19+S19+V19+P19 -> -6284.25 | N20: =Income!$N$6 -> 1783.75 | O20: =M20+N20 -> -4500.5 | P20: =SUM(X20:Z20) -> -13903 | Q20: =IF((O20+P20)<0,(O20+P20),0) -> -18403.5 | R20: =R19+$C$18-S19 -> 100 | S20: =IF(Q20=0,0,IF(R20>-Q20,-Q20,R20)) -> 100 | T20: =IF(R20<-Q20,"y","") -> y | U20: =IF(Y20=-4200,"y","") | V20: =IF(AND(T20="y",U20="y"),-Y20,0) -> 0 | W20: =(W19*(1+$H$4/12)+V20) -> 0 | X20: =-$E$2 -> -450 | Y20: -13453 | AA20: =O20+R20 -> -4400.5 | AB20: =W20 -> 0 | AC20: =AA20-AB20 -> -4400.5 | AW20: =AB20+R20 -> 100 | AX20: =IF(AW20>0,0,-Y20) -> 0 | AZ20: =AW20+AX20 -> 100 | BA20: =BA19+AX20 -> 0
A21: streaming | K21: =K20+1 -> 7 | L21: =L20+1 -> 7 | M21: =M20+N20+S20+V20+P20 -> -18303.5 | N21: =Income!$N$6 -> 1783.75 | O21: =M21+N21 -> -16519.75 | P21: =SUM(X21:Z21) -> -450 | Q21: =IF((O21+P21)<0,(O21+P21),0) -> -16969.75 | R21: =R20+$C$18-S20 -> 100 | S21: =IF(Q21=0,0,IF(R21>-Q21,-Q21,R21)) -> 100 | T21: =IF(R21<-Q21,"y","") -> y | U21: =IF(Y21=-4200,"y","") | V21: =IF(AND(T21="y",U21="y"),-Y21,0) -> 0 | W21: =(W20*(1+$H$4/12)+V21) -> 0 | X21: =-$E$2 -> -450 | AA21: =O21+R21 -> -16419.75 | AB21: =W21 -> 0 | AC21: =AA21-AB21 -> -16419.75 | AW21: =AB21+R21 -> 100 | AX21: =IF(AW21>0,0,-Y21) -> 0 | AZ21: =AW21+AX21 -> 100 | BA21: =BA20+AX21 -> 0
A22: health club | C22: 0 | E22: at apartment | K22: =K21+1 -> 8 | L22: =L21+1 -> 8 | M22: =M21+N21+S21+V21+P21 -> -16869.75 | N22: =Income!$N$6 -> 1783.75 | O22: =M22+N22 -> -15086 | P22: =SUM(X22:Z22) -> -450 | Q22: =IF((O22+P22)<0,(O22+P22),0) -> -15536 | R22: =R21+$C$18-S21 -> 100 | S22: =IF(Q22=0,0,IF(R22>-Q22,-Q22,R22)) -> 100 | T22: =IF(R22<-Q22,"y","") -> y | U22: =IF(Y22=-4200,"y","") | V22: =IF(AND(T22="y",U22="y"),-Y22,0) -> 0 | W22: =(W21*(1+$H$4/12)+V22) -> 0 | X22: =-$E$2 -> -450 | AA22: =O22+R22 -> -14986 | AB22: =W22 -> 0 | AC22: =AA22-AB22 -> -14986 | AW22: =AB22+R22 -> 100 | AX22: =IF(AW22>0,0,-Y22) -> 0 | AZ22: =AW22+AX22 -> 100 | BA22: =BA21+AX22 -> 0
A23: hair cut | C23: 25 | K23: =K22+1 -> 9 | L23: =L22+1 -> 9 | M23: =M22+N22+S22+V22+P22 -> -15436 | N23: =Income!$N$6 -> 1783.75 | O23: =M23+N23 -> -13652.25 | P23: =SUM(X23:Z23) -> -450 | Q23: =IF((O23+P23)<0,(O23+P23),0) -> -14102.25 | R23: =R22+$C$18-S22 -> 100 | S23: =IF(Q23=0,0,IF(R23>-Q23,-Q23,R23)) -> 100 | T23: =IF(R23<-Q23,"y","") -> y | U23: =IF(Y23=-4200,"y","") | V23: =IF(AND(T23="y",U23="y"),-Y23,0) -> 0 | W23: =(W22*(1+$H$4/12)+V23) -> 0 | X23: =-$E$2 -> -450 | AA23: =O23+R23 -> -13552.25 | AB23: =W23 -> 0 | AC23: =AA23-AB23 -> -13552.25 | AW23: =AB23+R23 -> 100 | AX23: =IF(AW23>0,0,-Y23) -> 0 | AZ23: =AW23+AX23 -> 100 | BA23: =BA22+AX23 -> 0
A24: presents | B24: 400 | C24: =B24/12 -> 33.333333 | K24: =K23+1 -> 10 | L24: =L23+1 -> 10 | M24: =M23+N23+S23+V23+P23 -> -14002.25 | N24: =Income!$N$6 -> 1783.75 | O24: =M24+N24 -> -12218.5 | P24: =SUM(X24:Z24) -> -450 | Q24: =IF((O24+P24)<0,(O24+P24),0) -> -12668.5 | R24: =R23+$C$18-S23 -> 100 | S24: =IF(Q24=0,0,IF(R24>-Q24,-Q24,R24)) -> 100 | T24: =IF(R24<-Q24,"y","") -> y | U24: =IF(Y24=-4200,"y","") | V24: =IF(AND(T24="y",U24="y"),-Y24,0) -> 0 | W24: =(W23*(1+$H$4/12)+V24) -> 0 | X24: =-$E$2 -> -450 | AA24: =O24+R24 -> -12118.5 | AB24: =W24 -> 0 | AC24: =AA24-AB24 -> -12118.5 | AW24: =AB24+R24 -> 100 | AX24: =IF(AW24>0,0,-Y24) -> 0 | AZ24: =AW24+AX24 -> 100 | BA24: =BA23+AX24 -> 0
A25: clothes | B25: 400 | C25: =B25/12 -> 33.333333 | K25: =K24+1 -> 11 | L25: =L24+1 -> 11 | M25: =M24+N24+S24+V24+P24 -> -12568.5 | N25: =Income!$N$6 -> 1783.75 | O25: =M25+N25 -> -10784.75 | P25: =SUM(X25:Z25) -> -450 | Q25: =IF((O25+P25)<0,(O25+P25),0) -> -11234.75 | R25: =R24+$C$18-S24 -> 100 | S25: =IF(Q25=0,0,IF(R25>-Q25,-Q25,R25)) -> 100 | T25: =IF(R25<-Q25,"y","") -> y | U25: =IF(Y25=-4200,"y","") | V25: =IF(AND(T25="y",U25="y"),-Y25,0) -> 0 | W25: =(W24*(1+$H$4/12)+V25) -> 0 | X25: =-$E$2 -> -450 | AA25: =O25+R25 -> -10684.75 | AB25: =W25 -> 0 | AC25: =AA25-AB25 -> -10684.75 | AW25: =AB25+R25 -> 100 | AX25: =IF(AW25>0,0,-Y25) -> 0 | AZ25: =AW25+AX25 -> 100 | BA25: =BA24+AX25 -> 0
K26: =K25+1 -> 12 | L26: =L25+1 -> 12 | M26: =M25+N25+S25+V25+P25 -> -11134.75 | N26: =Income!$N$6 -> 1783.75 | O26: =M26+N26 -> -9351 | P26: =SUM(X26:Z26) -> -450 | Q26: =IF((O26+P26)<0,(O26+P26),0) -> -9801 | R26: =R25+$C$18-S25 -> 100 | S26: =IF(Q26=0,0,IF(R26>-Q26,-Q26,R26)) -> 100 | T26: =IF(R26<-Q26,"y","") -> y | U26: =IF(Y26=-4200,"y","") | V26: =IF(AND(T26="y",U26="y"),-Y26,0) -> 0 | W26: =(W25*(1+$H$4/12)+V26) -> 0 | X26: =-$E$2 -> -450 | AA26: =O26+R26 -> -9251 | AB26: =W26 -> 0 | AC26: =AA26-AB26 -> -9251 | AW26: =AB26+R26 -> 100 | AX26: =IF(AW26>0,0,-Y26) -> 0 | AZ26: =AW26+AX26 -> 100 | BA26: =BA25+AX26 -> 0
J27: 2 | K27: 1 | L27: =L26+1 -> 13 | M27: =M26+N26+S26+V26+P26 -> -9701 | N27: =Income!$N$6 -> 1783.75 | O27: =M27+N27 -> -7917.25 | P27: =SUM(X27:Z27) -> -13903 | Q27: =IF((O27+P27)<0,(O27+P27),0) -> -21820.25 | R27: =R26+$C$18-S26 -> 100 | S27: =IF(Q27=0,0,IF(R27>-Q27,-Q27,R27)) -> 100 | T27: =IF(R27<-Q27,"y","") -> y | U27: =IF(Y27=-4200,"y","") | V27: =IF(AND(T27="y",U27="y"),-Y27,0) -> 0 | W27: =(W26*(1+$H$4/12)+V27) -> 0 | X27: =-$E$2 -> -450 | Y27: -13453 | AA27: =O27+R27 -> -7817.25 | AB27: =W27 -> 0 | AC27: =AA27-AB27 -> -7817.25 | AW27: =AB27+R27 -> 100 | AX27: =IF(AW27>0,0,-Y27) -> 0 | AZ27: =AW27+AX27 -> 100 | BA27: =BA26+AX27 -> 0
K28: =K27+1 -> 2 | L28: =L27+1 -> 14 | M28: =M27+N27+S27+V27+P27 -> -21720.25 | N28: =Income!$N$6 -> 1783.75 | O28: =M28+N28 -> -19936.5 | P28: =SUM(X28:Z28) -> -450 | Q28: =IF((O28+P28)<0,(O28+P28),0) -> -20386.5 | R28: =R27+$C$18-S27 -> 100 | S28: =IF(Q28=0,0,IF(R28>-Q28,-Q28,R28)) -> 100 | T28: =IF(R28<-Q28,"y","") -> y | U28: =IF(Y28=-4200,"y","") | V28: =IF(AND(T28="y",U28="y"),-Y28,0) -> 0 | W28: =(W27*(1+$H$4/12)+V28) -> 0 | X28: =-$E$2 -> -450 | AA28: =O28+R28 -> -19836.5 | AB28: =W28 -> 0 | AC28: =AA28-AB28 -> -19836.5 | AW28: =AB28+R28 -> 100 | AX28: =IF(AW28>0,0,-Y28) -> 0 | AZ28: =AW28+AX28 -> 100 | BA28: =BA27+AX28 -> 0
K29: =K28+1 -> 3 | L29: =L28+1 -> 15 | M29: =M28+N28+S28+V28+P28 -> -20286.5 | N29: =Income!$N$6 -> 1783.75 | O29: =M29+N29 -> -18502.75 | P29: =SUM(X29:Z29) -> -450 | Q29: =IF((O29+P29)<0,(O29+P29),0) -> -18952.75 | R29: =R28+$C$18-S28 -> 100 | S29: =IF(Q29=0,0,IF(R29>-Q29,-Q29,R29)) -> 100 | T29: =IF(R29<-Q29,"y","") -> y | U29: =IF(Y29=-4200,"y","") | V29: =IF(AND(T29="y",U29="y"),-Y29,0) -> 0 | W29: =(W28*(1+$H$4/12)+V29) -> 0 | X29: =-$E$2 -> -450 | AA29: =O29+R29 -> -18402.75 | AB29: =W29 -> 0 | AC29: =AA29-AB29 -> -18402.75 | AW29: =AB29+R29 -> 100 | AX29: =IF(AW29>0,0,-Y29) -> 0 | AZ29: =AW29+AX29 -> 100 | BA29: =BA28+AX29 -> 0
K30: =K29+1 -> 4 | L30: =L29+1 -> 16 | M30: =M29+N29+S29+V29+P29 -> -18852.75 | N30: =Income!$N$6 -> 1783.75 | O30: =M30+N30 -> -17069 | P30: =SUM(X30:Z30) -> -450 | Q30: =IF((O30+P30)<0,(O30+P30),0) -> -17519 | R30: =R29+$C$18-S29 -> 100 | S30: =IF(Q30=0,0,IF(R30>-Q30,-Q30,R30)) -> 100 | T30: =IF(R30<-Q30,"y","") -> y | U30: =IF(Y30=-4200,"y","") | V30: =IF(AND(T30="y",U30="y"),-Y30,0) -> 0 | W30: =(W29*(1+$H$4/12)+V30) -> 0 | X30: =-$E$2 -> -450 | AA30: =O30+R30 -> -16969 | AB30: =W30 -> 0 | AC30: =AA30-AB30 -> -16969 | AW30: =AB30+R30 -> 100 | AX30: =IF(AW30>0,0,-Y30) -> 0 | AZ30: =AW30+AX30 -> 100 | BA30: =BA29+AX30 -> 0
K31: =K30+1 -> 5 | L31: =L30+1 -> 17 | M31: =M30+N30+S30+V30+P30 -> -17419 | N31: =Income!$N$6 -> 1783.75 | O31: =M31+N31 -> -15635.25 | P31: =SUM(X31:Z31) -> -450 | Q31: =IF((O31+P31)<0,(O31+P31),0) -> -16085.25 | R31: =R30+$C$18-S30 -> 100 | S31: =IF(Q31=0,0,IF(R31>-Q31,-Q31,R31)) -> 100 | T31: =IF(R31<-Q31,"y","") -> y | U31: =IF(Y31=-4200,"y","") | V31: =IF(AND(T31="y",U31="y"),-Y31,0) -> 0 | W31: =(W30*(1+$H$4/12)+V31) -> 0 | X31: =-$E$2 -> -450 | AA31: =O31+R31 -> -15535.25 | AB31: =W31 -> 0 | AC31: =AA31-AB31 -> -15535.25 | AW31: =AB31+R31 -> 100 | AX31: =IF(AW31>0,0,-Y31) -> 0 | AZ31: =AW31+AX31 -> 100 | BA31: =BA30+AX31 -> 0
K32: =K31+1 -> 6 | L32: =L31+1 -> 18 | M32: =M31+N31+S31+V31+P31 -> -15985.25 | N32: =Income!$N$6 -> 1783.75 | O32: =M32+N32 -> -14201.5 | P32: =SUM(X32:Z32) -> -450 | Q32: =IF((O32+P32)<0,(O32+P32),0) -> -14651.5 | R32: =R31+$C$18-S31 -> 100 | S32: =IF(Q32=0,0,IF(R32>-Q32,-Q32,R32)) -> 100 | T32: =IF(R32<-Q32,"y","") -> y | U32: =IF(Y32=-4200,"y","") | V32: =IF(AND(T32="y",U32="y"),-Y32,0) -> 0 | W32: =(W31*(1+$H$4/12)+V32) -> 0 | X32: =-$E$2 -> -450 | AA32: =O32+R32 -> -14101.5 | AB32: =W32 -> 0 | AC32: =AA32-AB32 -> -14101.5 | AW32: =AB32+R32 -> 100 | AX32: =IF(AW32>0,0,-Y32) -> 0 | AZ32: =AW32+AX32 -> 100 | BA32: =BA31+AX32 -> 0
K33: =K32+1 -> 7 | L33: =L32+1 -> 19 | M33: =M32+N32+S32+V32+P32 -> -14551.5 | N33: =Income!$N$6 -> 1783.75 | O33: =M33+N33 -> -12767.75 | P33: =SUM(X33:Z33) -> -13903 | Q33: =IF((O33+P33)<0,(O33+P33),0) -> -26670.75 | R33: =R32+$C$18-S32 -> 100 | S33: =IF(Q33=0,0,IF(R33>-Q33,-Q33,R33)) -> 100 | T33: =IF(R33<-Q33,"y","") -> y | U33: =IF(Y33=-4200,"y","") | V33: =IF(AND(T33="y",U33="y"),-Y33,0) -> 0 | W33: =(W32*(1+$H$4/12)+V33) -> 0 | X33: =-$E$2 -> -450 | Y33: -13453 | AA33: =O33+R33 -> -12667.75 | AB33: =W33 -> 0 | AC33: =AA33-AB33 -> -12667.75 | AW33: =AB33+R33 -> 100 | AX33: =IF(AW33>0,0,-Y33) -> 0 | AZ33: =AW33+AX33 -> 100 | BA33: =BA32+AX33 -> 0
K34: =K33+1 -> 8 | L34: =L33+1 -> 20 | M34: =M33+N33+S33+V33+P33 -> -26570.75 | N34: =Income!$N$6 -> 1783.75 | O34: =M34+N34 -> -24787 | P34: =SUM(X34:Z34) -> -450 | Q34: =IF((O34+P34)<0,(O34+P34),0) -> -25237 | R34: =R33+$C$18-S33 -> 100 | S34: =IF(Q34=0,0,IF(R34>-Q34,-Q34,R34)) -> 100 | T34: =IF(R34<-Q34,"y","") -> y | U34: =IF(Y34=-4200,"y","") | V34: =IF(AND(T34="y",U34="y"),-Y34,0) -> 0 | W34: =(W33*(1+$H$4/12)+V34) -> 0 | X34: =-$E$2 -> -450 | AA34: =O34+R34 -> -24687 | AB34: =W34 -> 0 | AC34: =AA34-AB34 -> -24687 | AW34: =AB34+R34 -> 100 | AX34: =IF(AW34>0,0,-Y34) -> 0 | AZ34: =AW34+AX34 -> 100 | BA34: =BA33+AX34 -> 0
K35: =K34+1 -> 9 | L35: =L34+1 -> 21 | M35: =M34+N34+S34+V34+P34 -> -25137 | N35: =Income!$N$6 -> 1783.75 | O35: =M35+N35 -> -23353.25 | P35: =SUM(X35:Z35) -> -450 | Q35: =IF((O35+P35)<0,(O35+P35),0) -> -23803.25 | R35: =R34+$C$18-S34 -> 100 | S35: =IF(Q35=0,0,IF(R35>-Q35,-Q35,R35)) -> 100 | T35: =IF(R35<-Q35,"y","") -> y | U35: =IF(Y35=-4200,"y","") | V35: =IF(AND(T35="y",U35="y"),-Y35,0) -> 0 | W35: =(W34*(1+$H$4/12)+V35) -> 0 | X35: =-$E$2 -> -450 | AA35: =O35+R35 -> -23253.25 | AB35: =W35 -> 0 | AC35: =AA35-AB35 -> -23253.25 | AW35: =AB35+R35 -> 100 | AX35: =IF(AW35>0,0,-Y35) -> 0 | AZ35: =AW35+AX35 -> 100 | BA35: =BA34+AX35 -> 0
K36: =K35+1 -> 10 | L36: =L35+1 -> 22 | M36: =M35+N35+S35+V35+P35 -> -23703.25 | N36: =Income!$N$6 -> 1783.75 | O36: =M36+N36 -> -21919.5 | P36: =SUM(X36:Z36) -> -450 | Q36: =IF((O36+P36)<0,(O36+P36),0) -> -22369.5 | R36: =R35+$C$18-S35 -> 100 | S36: =IF(Q36=0,0,IF(R36>-Q36,-Q36,R36)) -> 100 | T36: =IF(R36<-Q36,"y","") -> y | U36: =IF(Y36=-4200,"y","") | V36: =IF(AND(T36="y",U36="y"),-Y36,0) -> 0 | W36: =(W35*(1+$H$4/12)+V36) -> 0 | X36: =-$E$2 -> -450 | AA36: =O36+R36 -> -21819.5 | AB36: =W36 -> 0 | AC36: =AA36-AB36 -> -21819.5 | AW36: =AB36+R36 -> 100 | AX36: =IF(AW36>0,0,-Y36) -> 0 | AZ36: =AW36+AX36 -> 100 | BA36: =BA35+AX36 -> 0
K37: =K36+1 -> 11 | L37: =L36+1 -> 23 | M37: =M36+N36+S36+V36+P36 -> -22269.5 | N37: =Income!$N$6 -> 1783.75 | O37: =M37+N37 -> -20485.75 | P37: =SUM(X37:Z37) -> -450 | Q37: =IF((O37+P37)<0,(O37+P37),0) -> -20935.75 | R37: =R36+$C$18-S36 -> 100 | S37: =IF(Q37=0,0,IF(R37>-Q37,-Q37,R37)) -> 100 | T37: =IF(R37<-Q37,"y","") -> y | U37: =IF(Y37=-4200,"y","") | V37: =IF(AND(T37="y",U37="y"),-Y37,0) -> 0 | W37: =(W36*(1+$H$4/12)+V37) -> 0 | X37: =-$E$2 -> -450 | AA37: =O37+R37 -> -20385.75 | AB37: =W37 -> 0 | AC37: =AA37-AB37 -> -20385.75 | AW37: =AB37+R37 -> 100 | AX37: =IF(AW37>0,0,-Y37) -> 0 | AZ37: =AW37+AX37 -> 100 | BA37: =BA36+AX37 -> 0
K38: =K37+1 -> 12 | L38: =L37+1 -> 24 | M38: =M37+N37+S37+V37+P37 -> -20835.75 | N38: =Income!$N$6 -> 1783.75 | O38: =M38+N38 -> -19052 | P38: =SUM(X38:Z38) -> -450 | Q38: =IF((O38+P38)<0,(O38+P38),0) -> -19502 | R38: =R37+$C$18-S37 -> 100 | S38: =IF(Q38=0,0,IF(R38>-Q38,-Q38,R38)) -> 100 | T38: =IF(R38<-Q38,"y","") -> y | U38: =IF(Y38=-4200,"y","") | V38: =IF(AND(T38="y",U38="y"),-Y38,0) -> 0 | W38: =(W37*(1+$H$4/12)+V38) -> 0 | X38: =-$E$2 -> -450 | AA38: =O38+R38 -> -18952 | AB38: =W38 -> 0 | AC38: =AA38-AB38 -> -18952 | AW38: =AB38+R38 -> 100 | AX38: =IF(AW38>0,0,-Y38) -> 0 | AZ38: =AW38+AX38 -> 100 | BA38: =BA37+AX38 -> 0
J39: 3 | K39: 1 | L39: =L38+1 -> 25 | M39: =M38+N38+S38+V38+P38 -> -19402 | N39: =Income!$N$6 -> 1783.75 | O39: =M39+N39 -> -17618.25 | P39: =SUM(X39:Z39) -> -13903 | Q39: =IF((O39+P39)<0,(O39+P39),0) -> -31521.25 | R39: =R38+$C$18-S38 -> 100 | S39: =IF(Q39=0,0,IF(R39>-Q39,-Q39,R39)) -> 100 | T39: =IF(R39<-Q39,"y","") -> y | U39: =IF(Y39=-4200,"y","") | V39: =IF(AND(T39="y",U39="y"),-Y39,0) -> 0 | W39: =(W38*(1+$H$4/12)+V39) -> 0 | X39: =-$E$2 -> -450 | Y39: -13453 | AA39: =O39+R39 -> -17518.25 | AB39: =W39 -> 0 | AC39: =AA39-AB39 -> -17518.25 | AW39: =AB39+R39 -> 100 | AX39: =IF(AW39>0,0,-Y39) -> 0 | AZ39: =AW39+AX39 -> 100 | BA39: =BA38+AX39 -> 0
K40: =K39+1 -> 2 | L40: =L39+1 -> 26 | M40: =M39+N39+S39+V39+P39 -> -31421.25 | N40: =Income!$N$6 -> 1783.75 | O40: =M40+N40 -> -29637.5 | P40: =SUM(X40:Z40) -> -450 | Q40: =IF((O40+P40)<0,(O40+P40),0) -> -30087.5 | R40: =R39+$C$18-S39 -> 100 | S40: =IF(Q40=0,0,IF(R40>-Q40,-Q40,R40)) -> 100 | T40: =IF(R40<-Q40,"y","") -> y | U40: =IF(Y40=-4200,"y","") | V40: =IF(AND(T40="y",U40="y"),-Y40,0) -> 0 | W40: =(W39*(1+$H$4/12)+V40) -> 0 | X40: =-$E$2 -> -450 | AA40: =O40+R40 -> -29537.5 | AB40: =W40 -> 0 | AC40: =AA40-AB40 -> -29537.5 | AW40: =AB40+R40 -> 100 | AX40: =IF(AW40>0,0,-Y40) -> 0 | AZ40: =AW40+AX40 -> 100 | BA40: =BA39+AX40 -> 0
...

Sheet SIU-online
B1: =$AC$68 -> -29209 | C1: at grad | E1: =$AC$74 -> -26051.5 | F1: at end of 5 yrs | H1: =N11 -> -1150 | I1: need at start | K1: =Income!N6 -> 1783.75 | L1: net monthly income
A2: Type | B2: annual | C2: monthly | E2: =SUM(C3:C50) -> 1357.5 | F2: per month expenses | K2: =-E2 -> -1357.5 | L2: net montly expenses
A3: rent | C3: 450 | E3: 20 | F3: Job #1 hrs | H3: Loan Rate
A4: utilities | C4: 0 | E4: 20 | F4: Job #2 hrs | H4: 0.08 | K4: =K1+K2 -> 426.25 | L4: left every month
A5: internet | C5: 0
A6: cell phone | C6: 20 | E6: Campus Edge apartments - $450/mo | M6: start | N6: =$C$3 -> 450 | O6: deposit
A7: renter's insurance | B7: 150 | C7: =B7/12 -> 12.5 | E7: all utilities included: water, electric, internet | N7: 200 | O7: air mattress, pillows, blankets - Amazon delivery
A8: car payment | B8: 0 | C8: =B8/12 -> 0 | E8: 91 apartments total | N8: 300 | O8: groceries
A9: auto insurance | B9: 0 | C9: =B9/12 -> 0 | E9: Campus Edge Apts | Apartments in Carbondale, IL | N9: 150 | O9: misc
A10: health insurance | C10: 75 | E10: (970) 536-5949 | G10: family, not students only | N10: 50 | O10: train ticket
A11: fuel /Bus | C11: 25 | N11: =-SUM(N5:N10) -> -1150 | O11: so before you start you'll need this much
A12: car repairs (oil) | B12: 0 | C12: =B12/12 -> 0
A13: groceries (food) | C13: 250 | J13: Year | K13: Month | L13: Total Months | M13: Balance | N13: income | O13: Bal + Income | Q13: Short amt | S13: Take from | T13: must borrow? | U13: OK to borrow? | V13: loan | W13: loan balance w/interest | X13: monthly | Y13: classes | Z13: apartment needs | AA13: assets | AB13: Loan bal | AC13: Left? | AW13: balance incl
A14: groceries (non-food) | C14: 50 | D14: Macomb Rentals - | P14: expenses | R14: Savings | S14: savings | V14: 0 | AW14: Savings | AX14: loan | AZ14: cash bal | BA14: loan bal
A15: fast food | C15: 50 | D15: 3 properties - Adams St, Wheeler St, Eggers Dr | J15: 1 | K15: 1 | L15: 1 | M15: 0 | N15: =Income!$N$6 -> 1783.75 | O15: =M15+N15 -> 1783.75 | P15: =SUM(X15:Z15) -> -8805.5 | Q15: =IF((O15+P15)<0,(O15+P15),0) -> -7021.75 | R15: =$C$18 -> 100 | S15: =IF(Q15=0,0,IF(R15>-Q15,-Q15,R15)) -> 100 | T15: =IF(R15<-Q15,"y","") -> y | U15: =IF(Y15=-4200,"y","") | V15: =IF(AND(T15="y",U15="y"),-Y15,0) -> 0 | W15: =V15 -> 0 | X15: =-$E$2 -> -1357.5 | Y15: -7248 | Z15: -200 | AA15: =O15+R15 -> 1883.75 | AB15: =W15 -> 0 | AC15: =AA15-AB15 -> 1883.75 | AW15: =AB15+R15 -> 100 | AX15: =IF(AW15>0,0,-Y15) -> 0 | AZ15: =AW15+AX15 -> 100 | BA15: =AX15 -> 0
A16: dining out | C16: 30 | K16: =K15+1 -> 2 | L16: =L15+1 -> 2 | M16: =M15+N15+S15+V15+P15 -> -6921.75 | N16: =Income!$N$6 -> 1783.75 | O16: =M16+N16 -> -5138 | P16: =SUM(X16:Z16) -> -1557.5 | Q16: =IF((O16+P16)<0,(O16+P16),0) -> -6695.5 | R16: =R15+$C$18-S15 -> 100 | S16: =IF(Q16=0,0,IF(R16>-Q16,-Q16,R16)) -> 100 | T16: =IF(R16<-Q16,"y","") -> y | U16: =IF(Y16=-4200,"y","") | V16: =IF(AND(T16="y",U16="y"),-Y16,0) -> 0 | W16: =(W15*(1+$H$4/12)+V16) -> 0 | X16: =-$E$2 -> -1357.5 | Z16: -200 | AA16: =O16+R16 -> -5038 | AB16: =W16 -> 0 | AC16: =AA16-AB16 -> -5038 | AW16: =AB16+R16 -> 100 | AX16: =IF(AW16>0,0,-Y16) -> 0 | AZ16: =AW16+AX16 -> 100 | BA16: =BA15+AX16 -> 0
A17: entertainment | C17: 50 | D17: Home - Macomb Rentals | K17: =K16+1 -> 3 | L17: =L16+1 -> 3 | M17: =M16+N16+S16+V16+P16 -> -6595.5 | N17: =Income!$N$6 -> 1783.75 | O17: =M17+N17 -> -4811.75 | P17: =SUM(X17:Z17) -> -1557.5 | Q17: =IF((O17+P17)<0,(O17+P17),0) -> -6369.25 | R17: =R16+$C$18-S16 -> 100 | S17: =IF(Q17=0,0,IF(R17>-Q17,-Q17,R17)) -> 100 | T17: =IF(R17<-Q17,"y","") -> y | U17: =IF(Y17=-4200,"y","") | V17: =IF(AND(T17="y",U17="y"),-Y17,0) -> 0 | W17: =(W16*(1+$H$4/12)+V17) -> 0 | X17: =-$E$2 -> -1357.5 | Z17: -200 | AA17: =O17+R17 -> -4711.75 | AB17: =W17 -> 0 | AC17: =AA17-AB17 -> -4711.75 | AW17: =AB17+R17 -> 100 | AX17: =IF(AW17>0,0,-Y17) -> 0 | AZ17: =AW17+AX17 -> 100 | BA17: =BA16+AX17 -> 0
A18: savings | C18: 100 | D18: (309) 833-2320 | K18: =K17+1 -> 4 | L18: =L17+1 -> 4 | M18: =M17+N17+S17+V17+P17 -> -6269.25 | N18: =Income!$N$6 -> 1783.75 | O18: =M18+N18 -> -4485.5 | P18: =SUM(X18:Z18) -> -1557.5 | Q18: =IF((O18+P18)<0,(O18+P18),0) -> -6043 | R18: =R17+$C$18-S17 -> 100 | S18: =IF(Q18=0,0,IF(R18>-Q18,-Q18,R18)) -> 100 | T18: =IF(R18<-Q18,"y","") -> y | U18: =IF(Y18=-4200,"y","") | V18: =IF(AND(T18="y",U18="y"),-Y18,0) -> 0 | W18: =(W17*(1+$H$4/12)+V18) -> 0 | X18: =-$E$2 -> -1357.5 | Z18: -200 | AA18: =O18+R18 -> -4385.5 | AB18: =W18 -> 0 | AC18: =AA18-AB18 -> -4385.5 | AW18: =AB18+R18 -> 100 | AX18: =IF(AW18>0,0,-Y18) -> 0 | AZ18: =AW18+AX18 -> 100 | BA18: =BA17+AX18 -> 0
A19: vacation | B19: 1000 | C19: =B19/12 -> 83.333333 | K19: =K18+1 -> 5 | L19: =L18+1 -> 5 | M19: =M18+N18+S18+V18+P18 -> -5943 | N19: =Income!$N$6 -> 1783.75 | O19: =M19+N19 -> -4159.25 | P19: =SUM(X19:Z19) -> -1557.5 | Q19: =IF((O19+P19)<0,(O19+P19),0) -> -5716.75 | R19: =R18+$C$18-S18 -> 100 | S19: =IF(Q19=0,0,IF(R19>-Q19,-Q19,R19)) -> 100 | T19: =IF(R19<-Q19,"y","") -> y | U19: =IF(Y19=-4200,"y","") | V19: =IF(AND(T19="y",U19="y"),-Y19,0) -> 0 | W19: =(W18*(1+$H$4/12)+V19) -> 0 | X19: =-$E$2 -> -1357.5 | Z19: -200 | AA19: =O19+R19 -> -4059.25 | AB19: =W19 -> 0 | AC19: =AA19-AB19 -> -4059.25 | AW19: =AB19+R19 -> 100 | AX19: =IF(AW19>0,0,-Y19) -> 0 | AZ19: =AW19+AX19 -> 100 | BA19: =BA18+AX19 -> 0
A20: misc household | C20: 50 | K20: =K19+1 -> 6 | L20: =L19+1 -> 6 | M20: =M19+N19+S19+V19+P19 -> -5616.75 | N20: =Income!$N$6 -> 1783.75 | O20: =M20+N20 -> -3833 | P20: =SUM(X20:Z20) -> -8605.5 | Q20: =IF((O20+P20)<0,(O20+P20),0) -> -12438.5 | R20: =R19+$C$18-S19 -> 100 | S20: =IF(Q20=0,0,IF(R20>-Q20,-Q20,R20)) -> 100 | T20: =IF(R20<-Q20,"y","") -> y | U20: =IF(Y20=-4200,"y","") | V20: =IF(AND(T20="y",U20="y"),-Y20,0) -> 0 | W20: =(W19*(1+$H$4/12)+V20) -> 0 | X20: =-$E$2 -> -1357.5 | Y20: -7248 | AA20: =O20+R20 -> -3733 | AB20: =W20 -> 0 | AC20: =AA20-AB20 -> -3733 | AW20: =AB20+R20 -> 100 | AX20: =IF(AW20>0,0,-Y20) -> 0 | AZ20: =AW20+AX20 -> 100 | BA20: =BA19+AX20 -> 0
A21: streaming | C21: 20 | K21: =K20+1 -> 7 | L21: =L20+1 -> 7 | M21: =M20+N20+S20+V20+P20 -> -12338.5 | N21: =Income!$N$6 -> 1783.75 | O21: =M21+N21 -> -10554.75 | P21: =SUM(X21:Z21) -> -1357.5 | Q21: =IF((O21+P21)<0,(O21+P21),0) -> -11912.25 | R21: =R20+$C$18-S20 -> 100 | S21: =IF(Q21=0,0,IF(R21>-Q21,-Q21,R21)) -> 100 | T21: =IF(R21<-Q21,"y","") -> y | U21: =IF(Y21=-4200,"y","") | V21: =IF(AND(T21="y",U21="y"),-Y21,0) -> 0 | W21: =(W20*(1+$H$4/12)+V21) -> 0 | X21: =-$E$2 -> -1357.5 | AA21: =O21+R21 -> -10454.75 | AB21: =W21 -> 0 | AC21: =AA21-AB21 -> -10454.75 | AW21: =AB21+R21 -> 100 | AX21: =IF(AW21>0,0,-Y21) -> 0 | AZ21: =AW21+AX21 -> 100 | BA21: =BA20+AX21 -> 0
A22: health club | C22: 0 | E22: at apartment | K22: =K21+1 -> 8 | L22: =L21+1 -> 8 | M22: =M21+N21+S21+V21+P21 -> -11812.25 | N22: =Income!$N$6 -> 1783.75 | O22: =M22+N22 -> -10028.5 | P22: =SUM(X22:Z22) -> -1357.5 | Q22: =IF((O22+P22)<0,(O22+P22),0) -> -11386 | R22: =R21+$C$18-S21 -> 100 | S22: =IF(Q22=0,0,IF(R22>-Q22,-Q22,R22)) -> 100 | T22: =IF(R22<-Q22,"y","") -> y | U22: =IF(Y22=-4200,"y","") | V22: =IF(AND(T22="y",U22="y"),-Y22,0) -> 0 | W22: =(W21*(1+$H$4/12)+V22) -> 0 | X22: =-$E$2 -> -1357.5 | AA22: =O22+R22 -> -9928.5 | AB22: =W22 -> 0 | AC22: =AA22-AB22 -> -9928.5 | AW22: =AB22+R22 -> 100 | AX22: =IF(AW22>0,0,-Y22) -> 0 | AZ22: =AW22+AX22 -> 100 | BA22: =BA21+AX22 -> 0
A23: hair cut | C23: 25 | K23: =K22+1 -> 9 | L23: =L22+1 -> 9 | M23: =M22+N22+S22+V22+P22 -> -11286 | N23: =Income!$N$6 -> 1783.75 | O23: =M23+N23 -> -9502.25 | P23: =SUM(X23:Z23) -> -1357.5 | Q23: =IF((O23+P23)<0,(O23+P23),0) -> -10859.75 | R23: =R22+$C$18-S22 -> 100 | S23: =IF(Q23=0,0,IF(R23>-Q23,-Q23,R23)) -> 100 | T23: =IF(R23<-Q23,"y","") -> y | U23: =IF(Y23=-4200,"y","") | V23: =IF(AND(T23="y",U23="y"),-Y23,0) -> 0 | W23: =(W22*(1+$H$4/12)+V23) -> 0 | X23: =-$E$2 -> -1357.5 | AA23: =O23+R23 -> -9402.25 | AB23: =W23 -> 0 | AC23: =AA23-AB23 -> -9402.25 | AW23: =AB23+R23 -> 100 | AX23: =IF(AW23>0,0,-Y23) -> 0 | AZ23: =AW23+AX23 -> 100 | BA23: =BA22+AX23 -> 0
A24: presents | B24: 400 | C24: =B24/12 -> 33.333333 | K24: =K23+1 -> 10 | L24: =L23+1 -> 10 | M24: =M23+N23+S23+V23+P23 -> -10759.75 | N24: =Income!$N$6 -> 1783.75 | O24: =M24+N24 -> -8976 | P24: =SUM(X24:Z24) -> -1357.5 | Q24: =IF((O24+P24)<0,(O24+P24),0) -> -10333.5 | R24: =R23+$C$18-S23 -> 100 | S24: =IF(Q24=0,0,IF(R24>-Q24,-Q24,R24)) -> 100 | T24: =IF(R24<-Q24,"y","") -> y | U24: =IF(Y24=-4200,"y","") | V24: =IF(AND(T24="y",U24="y"),-Y24,0) -> 0 | W24: =(W23*(1+$H$4/12)+V24) -> 0 | X24: =-$E$2 -> -1357.5 | AA24: =O24+R24 -> -8876 | AB24: =W24 -> 0 | AC24: =AA24-AB24 -> -8876 | AW24: =AB24+R24 -> 100 | AX24: =IF(AW24>0,0,-Y24) -> 0 | AZ24: =AW24+AX24 -> 100 | BA24: =BA23+AX24 -> 0
A25: clothes | B25: 400 | C25: =B25/12 -> 33.333333 | K25: =K24+1 -> 11 | L25: =L24+1 -> 11 | M25: =M24+N24+S24+V24+P24 -> -10233.5 | N25: =Income!$N$6 -> 1783.75 | O25: =M25+N25 -> -8449.75 | P25: =SUM(X25:Z25) -> -1357.5 | Q25: =IF((O25+P25)<0,(O25+P25),0) -> -9807.25 | R25: =R24+$C$18-S24 -> 100 | S25: =IF(Q25=0,0,IF(R25>-Q25,-Q25,R25)) -> 100 | T25: =IF(R25<-Q25,"y","") -> y | U25: =IF(Y25=-4200,"y","") | V25: =IF(AND(T25="y",U25="y"),-Y25,0) -> 0 | W25: =(W24*(1+$H$4/12)+V25) -> 0 | X25: =-$E$2 -> -1357.5 | AA25: =O25+R25 -> -8349.75 | AB25: =W25 -> 0 | AC25: =AA25-AB25 -> -8349.75 | AW25: =AB25+R25 -> 100 | AX25: =IF(AW25>0,0,-Y25) -> 0 | AZ25: =AW25+AX25 -> 100 | BA25: =BA24+AX25 -> 0
K26: =K25+1 -> 12 | L26: =L25+1 -> 12 | M26: =M25+N25+S25+V25+P25 -> -9707.25 | N26: =Income!$N$6 -> 1783.75 | O26: =M26+N26 -> -7923.5 | P26: =SUM(X26:Z26) -> -8605.5 | Q26: =IF((O26+P26)<0,(O26+P26),0) -> -16529 | R26: =R25+$C$18-S25 -> 100 | S26: =IF(Q26=0,0,IF(R26>-Q26,-Q26,R26)) -> 100 | T26: =IF(R26<-Q26,"y","") -> y | U26: =IF(Y26=-4200,"y","") | V26: =IF(AND(T26="y",U26="y"),-Y26,0) -> 0 | W26: =(W25*(1+$H$4/12)+V26) -> 0 | X26: =-$E$2 -> -1357.5 | Y26: -7248 | AA26: =O26+R26 -> -7823.5 | AB26: =W26 -> 0 | AC26: =AA26-AB26 -> -7823.5 | AW26: =AB26+R26 -> 100 | AX26: =IF(AW26>0,0,-Y26) -> 0 | AZ26: =AW26+AX26 -> 100 | BA26: =BA25+AX26 -> 0
J27: 2 | K27: 1 | L27: =L26+1 -> 13 | M27: =M26+N26+S26+V26+P26 -> -16429 | N27: =Income!$N$6 -> 1783.75 | O27: =M27+N27 -> -14645.25 | P27: =SUM(X27:Z27) -> -1357.5 | Q27: =IF((O27+P27)<0,(O27+P27),0) -> -16002.75 | R27: =R26+$C$18-S26 -> 100 | S27: =IF(Q27=0,0,IF(R27>-Q27,-Q27,R27)) -> 100 | T27: =IF(R27<-Q27,"y","") -> y | U27: =IF(Y27=-4200,"y","") | V27: =IF(AND(T27="y",U27="y"),-Y27,0) -> 0 | W27: =(W26*(1+$H$4/12)+V27) -> 0 | X27: =-$E$2 -> -1357.5 | AA27: =O27+R27 -> -14545.25 | AB27: =W27 -> 0 | AC27: =AA27-AB27 -> -14545.25 | AW27: =AB27+R27 -> 100 | AX27: =IF(AW27>0,0,-Y27) -> 0 | AZ27: =AW27+AX27 -> 100 | BA27: =BA26+AX27 -> 0
K28: =K27+1 -> 2 | L28: =L27+1 -> 14 | M28: =M27+N27+S27+V27+P27 -> -15902.75 | N28: =Income!$N$6 -> 1783.75 | O28: =M28+N28 -> -14119 | P28: =SUM(X28:Z28) -> -1357.5 | Q28: =IF((O28+P28)<0,(O28+P28),0) -> -15476.5 | R28: =R27+$C$18-S27 -> 100 | S28: =IF(Q28=0,0,IF(R28>-Q28,-Q28,R28)) -> 100 | T28: =IF(R28<-Q28,"y","") -> y | U28: =IF(Y28=-4200,"y","") | V28: =IF(AND(T28="y",U28="y"),-Y28,0) -> 0 | W28: =(W27*(1+$H$4/12)+V28) -> 0 | X28: =-$E$2 -> -1357.5 | AA28: =O28+R28 -> -14019 | AB28: =W28 -> 0 | AC28: =AA28-AB28 -> -14019 | AW28: =AB28+R28 -> 100 | AX28: =IF(AW28>0,0,-Y28) -> 0 | AZ28: =AW28+AX28 -> 100 | BA28: =BA27+AX28 -> 0
K29: =K28+1 -> 3 | L29: =L28+1 -> 15 | M29: =M28+N28+S28+V28+P28 -> -15376.5 | N29: =Income!$N$6 -> 1783.75 | O29: =M29+N29 -> -13592.75 | P29: =SUM(X29:Z29) -> -1357.5 | Q29: =IF((O29+P29)<0,(O29+P29),0) -> -14950.25 | R29: =R28+$C$18-S28 -> 100 | S29: =IF(Q29=0,0,IF(R29>-Q29,-Q29,R29)) -> 100 | T29: =IF(R29<-Q29,"y","") -> y | U29: =IF(Y29=-4200,"y","") | V29: =IF(AND(T29="y",U29="y"),-Y29,0) -> 0 | W29: =(W28*(1+$H$4/12)+V29) -> 0 | X29: =-$E$2 -> -1357.5 | AA29: =O29+R29 -> -13492.75 | AB29: =W29 -> 0 | AC29: =AA29-AB29 -> -13492.75 | AW29: =AB29+R29 -> 100 | AX29: =IF(AW29>0,0,-Y29) -> 0 | AZ29: =AW29+AX29 -> 100 | BA29: =BA28+AX29 -> 0
K30: =K29+1 -> 4 | L30: =L29+1 -> 16 | M30: =M29+N29+S29+V29+P29 -> -14850.25 | N30: =Income!$N$6 -> 1783.75 | O30: =M30+N30 -> -13066.5 | P30: =SUM(X30:Z30) -> -1357.5 | Q30: =IF((O30+P30)<0,(O30+P30),0) -> -14424 | R30: =R29+$C$18-S29 -> 100 | S30: =IF(Q30=0,0,IF(R30>-Q30,-Q30,R30)) -> 100 | T30: =IF(R30<-Q30,"y","") -> y | U30: =IF(Y30=-4200,"y","") | V30: =IF(AND(T30="y",U30="y"),-Y30,0) -> 0 | W30: =(W29*(1+$H$4/12)+V30) -> 0 | X30: =-$E$2 -> -1357.5 | AA30: =O30+R30 -> -12966.5 | AB30: =W30 -> 0 | AC30: =AA30-AB30 -> -12966.5 | AW30: =AB30+R30 -> 100 | AX30: =IF(AW30>0,0,-Y30) -> 0 | AZ30: =AW30+AX30 -> 100 | BA30: =BA29+AX30 -> 0
K31: =K30+1 -> 5 | L31: =L30+1 -> 17 | M31: =M30+N30+S30+V30+P30 -> -14324 | N31: =Income!$N$6 -> 1783.75 | O31: =M31+N31 -> -12540.25 | P31: =SUM(X31:Z31) -> -1357.5 | Q31: =IF((O31+P31)<0,(O31+P31),0) -> -13897.75 | R31: =R30+$C$18-S30 -> 100 | S31: =IF(Q31=0,0,IF(R31>-Q31,-Q31,R31)) -> 100 | T31: =IF(R31<-Q31,"y","") -> y | U31: =IF(Y31=-4200,"y","") | V31: =IF(AND(T31="y",U31="y"),-Y31,0) -> 0 | W31: =(W30*(1+$H$4/12)+V31) -> 0 | X31: =-$E$2 -> -1357.5 | AA31: =O31+R31 -> -12440.25 | AB31: =W31 -> 0 | AC31: =AA31-AB31 -> -12440.25 | AW31: =AB31+R31 -> 100 | AX31: =IF(AW31>0,0,-Y31) -> 0 | AZ31: =AW31+AX31 -> 100 | BA31: =BA30+AX31 -> 0
K32: =K31+1 -> 6 | L32: =L31+1 -> 18 | M32: =M31+N31+S31+V31+P31 -> -13797.75 | N32: =Income!$N$6 -> 1783.75 | O32: =M32+N32 -> -12014 | P32: =SUM(X32:Z32) -> -8605.5 | Q32: =IF((O32+P32)<0,(O32+P32),0) -> -20619.5 | R32: =R31+$C$18-S31 -> 100 | S32: =IF(Q32=0,0,IF(R32>-Q32,-Q32,R32)) -> 100 | T32: =IF(R32<-Q32,"y","") -> y | U32: =IF(Y32=-4200,"y","") | V32: =IF(AND(T32="y",U32="y"),-Y32,0) -> 0 | W32: =(W31*(1+$H$4/12)+V32) -> 0 | X32: =-$E$2 -> -1357.5 | Y32: -7248 | AA32: =O32+R32 -> -11914 | AB32: =W32 -> 0 | AC32: =AA32-AB32 -> -11914 | AW32: =AB32+R32 -> 100 | AX32: =IF(AW32>0,0,-Y32) -> 0 | AZ32: =AW32+AX32 -> 100 | BA32: =BA31+AX32 -> 0
K33: =K32+1 -> 7 | L33: =L32+1 -> 19 | M33: =M32+N32+S32+V32+P32 -> -20519.5 | N33: =Income!$N$6 -> 1783.75 | O33: =M33+N33 -> -18735.75 | P33: =SUM(X33:Z33) -> -1357.5 | Q33: =IF((O33+P33)<0,(O33+P33),0) -> -20093.25 | R33: =R32+$C$18-S32 -> 100 | S33: =IF(Q33=0,0,IF(R33>-Q33,-Q33,R33)) -> 100 | T33: =IF(R33<-Q33,"y","") -> y | U33: =IF(Y33=-4200,"y","") | V33: =IF(AND(T33="y",U33="y"),-Y33,0) -> 0 | W33: =(W32*(1+$H$4/12)+V33) -> 0 | X33: =-$E$2 -> -1357.5 | AA33: =O33+R33 -> -18635.75 | AB33: =W33 -> 0 | AC33: =AA33-AB33 -> -18635.75 | AW33: =AB33+R33 -> 100 | AX33: =IF(AW33>0,0,-Y33) -> 0 | AZ33: =AW33+AX33 -> 100 | BA33: =BA32+AX33 -> 0
K34: =K33+1 -> 8 | L34: =L33+1 -> 20 | M34: =M33+N33+S33+V33+P33 -> -19993.25 | N34: =Income!$N$6 -> 1783.75 | O34: =M34+N34 -> -18209.5 | P34: =SUM(X34:Z34) -> -1357.5 | Q34: =IF((O34+P34)<0,(O34+P34),0) -> -19567 | R34: =R33+$C$18-S33 -> 100 | S34: =IF(Q34=0,0,IF(R34>-Q34,-Q34,R34)) -> 100 | T34: =IF(R34<-Q34,"y","") -> y | U34: =IF(Y34=-4200,"y","") | V34: =IF(AND(T34="y",U34="y"),-Y34,0) -> 0 | W34: =(W33*(1+$H$4/12)+V34) -> 0 | X34: =-$E$2 -> -1357.5 | AA34: =O34+R34 -> -18109.5 | AB34: =W34 -> 0 | AC34: =AA34-AB34 -> -18109.5 | AW34: =AB34+R34 -> 100 | AX34: =IF(AW34>0,0,-Y34) -> 0 | AZ34: =AW34+AX34 -> 100 | BA34: =BA33+AX34 -> 0
K35: =K34+1 -> 9 | L35: =L34+1 -> 21 | M35: =M34+N34+S34+V34+P34 -> -19467 | N35: =Income!$N$6 -> 1783.75 | O35: =M35+N35 -> -17683.25 | P35: =SUM(X35:Z35) -> -1357.5 | Q35: =IF((O35+P35)<0,(O35+P35),0) -> -19040.75 | R35: =R34+$C$18-S34 -> 100 | S35: =IF(Q35=0,0,IF(R35>-Q35,-Q35,R35)) -> 100 | T35: =IF(R35<-Q35,"y","") -> y | U35: =IF(Y35=-4200,"y","") | V35: =IF(AND(T35="y",U35="y"),-Y35,0) -> 0 | W35: =(W34*(1+$H$4/12)+V35) -> 0 | X35: =-$E$2 -> -1357.5 | AA35: =O35+R35 -> -17583.25 | AB35: =W35 -> 0 | AC35: =AA35-AB35 -> -17583.25 | AW35: =AB35+R35 -> 100 | AX35: =IF(AW35>0,0,-Y35) -> 0 | AZ35: =AW35+AX35 -> 100 | BA35: =BA34+AX35 -> 0
K36: =K35+1 -> 10 | L36: =L35+1 -> 22 | M36: =M35+N35+S35+V35+P35 -> -18940.75 | N36: =Income!$N$6 -> 1783.75 | O36: =M36+N36 -> -17157 | P36: =SUM(X36:Z36) -> -1357.5 | Q36: =IF((O36+P36)<0,(O36+P36),0) -> -18514.5 | R36: =R35+$C$18-S35 -> 100 | S36: =IF(Q36=0,0,IF(R36>-Q36,-Q36,R36)) -> 100 | T36: =IF(R36<-Q36,"y","") -> y | U36: =IF(Y36=-4200,"y","") | V36: =IF(AND(T36="y",U36="y"),-Y36,0) -> 0 | W36: =(W35*(1+$H$4/12)+V36) -> 0 | X36: =-$E$2 -> -1357.5 | AA36: =O36+R36 -> -17057 | AB36: =W36 -> 0 | AC36: =AA36-AB36 -> -17057 | AW36: =AB36+R36 -> 100 | AX36: =IF(AW36>0,0,-Y36) -> 0 | AZ36: =AW36+AX36 -> 100 | BA36: =BA35+AX36 -> 0
K37: =K36+1 -> 11 | L37: =L36+1 -> 23 | M37: =M36+N36+S36+V36+P36 -> -18414.5 | N37: =Income!$N$6 -> 1783.75 | O37: =M37+N37 -> -16630.75 | P37: =SUM(X37:Z37) -> -1357.5 | Q37: =IF((O37+P37)<0,(O37+P37),0) -> -17988.25 | R37: =R36+$C$18-S36 -> 100 | S37: =IF(Q37=0,0,IF(R37>-Q37,-Q37,R37)) -> 100 | T37: =IF(R37<-Q37,"y","") -> y | U37: =IF(Y37=-4200,"y","") | V37: =IF(AND(T37="y",U37="y"),-Y37,0) -> 0 | W37: =(W36*(1+$H$4/12)+V37) -> 0 | X37: =-$E$2 -> -1357.5 | AA37: =O37+R37 -> -16530.75 | AB37: =W37 -> 0 | AC37: =AA37-AB37 -> -16530.75 | AW37: =AB37+R37 -> 100 | AX37: =IF(AW37>0,0,-Y37) -> 0 | AZ37: =AW37+AX37 -> 100 | BA37: =BA36+AX37 -> 0
K38: =K37+1 -> 12 | L38: =L37+1 -> 24 | M38: =M37+N37+S37+V37+P37 -> -17888.25 | N38: =Income!$N$6 -> 1783.75 | O38: =M38+N38 -> -16104.5 | P38: =SUM(X38:Z38) -> -8605.5 | Q38: =IF((O38+P38)<0,(O38+P38),0) -> -24710 | R38: =R37+$C$18-S37 -> 100 | S38: =IF(Q38=0,0,IF(R38>-Q38,-Q38,R38)) -> 100 | T38: =IF(R38<-Q38,"y","") -> y | U38: =IF(Y38=-4200,"y","") | V38: =IF(AND(T38="y",U38="y"),-Y38,0) -> 0 | W38: =(W37*(1+$H$4/12)+V38) -> 0 | X38: =-$E$2 -> -1357.5 | Y38: -7248 | AA38: =O38+R38 -> -16004.5 | AB38: =W38 -> 0 | AC38: =AA38-AB38 -> -16004.5 | AW38: =AB38+R38 -> 100 | AX38: =IF(AW38>0,0,-Y38) -> 0 | AZ38: =AW38+AX38 -> 100 | BA38: =BA37+AX38 -> 0
J39: 3 | K39: 1 | L39: =L38+1 -> 25 | M39: =M38+N38+S38+V38+P38 -> -24610 | N39: =Income!$N$6 -> 1783.75 | O39: =M39+N39 -> -22826.25 | P39: =SUM(X39:Z39) -> -1357.5 | Q39: =IF((O39+P39)<0,(O39+P39),0) -> -24183.75 | R39: =R38+$C$18-S38 -> 100 | S39: =IF(Q39=0,0,IF(R39>-Q39,-Q39,R39)) -> 100 | T39: =IF(R39<-Q39,"y","") -> y | U39: =IF(Y39=-4200,"y","") | V39: =IF(AND(T39="y",U39="y"),-Y39,0) -> 0 | W39: =(W38*(1+$H$4/12)+V39) -> 0 | X39: =-$E$2 -> -1357.5 | AA39: =O39+R39 -> -22726.25 | AB39: =W39 -> 0 | AC39: =AA39-AB39 -> -22726.25 | AW39: =AB39+R39 -> 100 | AX39: =IF(AW39>0,0,-Y39) -> 0 | AZ39: =AW39+AX39 -> 100 | BA39: =BA38+AX39 -> 0
K40: =K39+1 -> 2 | L40: =L39+1 -> 26 | M40: =M39+N39+S39+V39+P39 -> -24083.75 | N40: =Income!$N$6 -> 1783.75 | O40: =M40+N40 -> -22300 | P40: =SUM(X40:Z40) -> -1357.5 | Q40: =IF((O40+P40)<0,(O40+P40),0) -> -23657.5 | R40: =R39+$C$18-S39 -> 100 | S40: =IF(Q40=0,0,IF(R40>-Q40,-Q40,R40)) -> 100 | T40: =IF(R40<-Q40,"y","") -> y | U40: =IF(Y40=-4200,"y","") | V40: =IF(AND(T40="y",U40="y"),-Y40,0) -> 0 | W40: =(W39*(1+$H$4/12)+V40) -> 0 | X40: =-$E$2 -> -1357.5 | AA40: =O40+R40 -> -22200 | AB40: =W40 -> 0 | AC40: =AA40-AB40 -> -22200 | AW40: =AB40+R40 -> 100 | AX40: =IF(AW40>0,0,-Y40) -> 0 | AZ40: =AW40+AX40 -> 100 | BA40: =BA39+AX40 -> 0
...

Sheet Table
A1: Small Studio Apartment Furnishing Checklist
A2: Comprehensive starter list for a roughly 500 sq. ft. studio apartment. Delete or mark items that are unnecessary.
A4: Room / Area | B4: Category | C4: Item | D4: Qty | E4: ea | F4: total | G4: Priority | H4: Notes | I4: Estimated Cost | J4: Include?
A5: Entire Apartment / General | B5: Safety | C5: Smoke detector(s) | D5: 1 | G5: Essential | H5: Often supplied by landlord; verify operation | J5: No
A6: Entire Apartment / General | B6: Safety | C6: Carbon monoxide detector | D6: 1 | G6: Essential | H6: Especially important with gas appliances or attached garage | J6: No
A7: Entire Apartment / General | B7: Safety | C7: Fire extinguisher | D7: 1 | G7: Essential | H7: Multipurpose ABC type | J7: Yes
A8: Entire Apartment / General | B8: Safety | C8: First-aid kit | D8: 1 | G8: Essential | J8: Yes
A9: Entire Apartment / General | B9: Safety | C9: Flashlight | D9: 1 | G9: Essential | J9: Yes
A10: Entire Apartment / General | B10: Safety | C10: Extra batteries | D10: 1 | G10: Essential | H10: Match smoke detector, flashlight, and remotes | J10: Yes
A11: Entire Apartment / General | B11: Safety | C11: Emergency candles or battery lantern | D11: 1 | G11: Optional | H11: Avoid open flames where prohibited | J11: No
A12: Entire Apartment / General | B12: Safety | C12: Basic emergency supplies | D12: 1 | G12: Optional | H12: Water, shelf-stable food, basic medications | J12: No
A13: Entire Apartment / General | B13: Cleaning | C13: Vacuum cleaner | D13: 1 | G13: Essential | H13: Compact stick vacuum works well in a studio | J13: Yes
A14: Entire Apartment / General | B14: Cleaning | C14: Broom | D14: 1 | G14: Essential | J14: Yes
A15: Entire Apartment / General | B15: Cleaning | C15: Dustpan | D15: 1 | G15: Essential | J15: Yes
